BEGIN:VCALENDAR
VERSION:2.0
PRODID:-//NorthSide Assembly of God - ECPv6.2.9//NONSGML v1.0//EN
CALSCALE:GREGORIAN
METHOD:PUBLISH
X-WR-CALNAME:NorthSide Assembly of God
X-ORIGINAL-URL:https://northside-ag.org
X-WR-CALDESC:Events for NorthSide Assembly of God
REFRESH-INTERVAL;VALUE=DURATION:PT1H
X-Robots-Tag:noindex
X-PUBLISHED-TTL:PT1H
BEGIN:VTIMEZONE
TZID:America/Chicago
BEGIN:DAYLIGHT
TZOFFSETFROM:-0600
TZOFFSETTO:-0500
TZNAME:CDT
DTSTART:20260308T080000
END:DAYLIGHT
BEGIN:STANDARD
TZOFFSETFROM:-0500
TZOFFSETTO:-0600
TZNAME:CST
DTSTART:20261101T070000
END:STANDARD
END:VTIMEZONE
BEGIN:VEVENT
DTSTART;TZID=America/Chicago:20260124T173000
DTEND;TZID=America/Chicago:20260124T190000
DTSTAMP:20260420T082205
CREATED:20260112T203055Z
LAST-MODIFIED:20260112T203055Z
UID:2802-1769275800-1769281200@northside-ag.org
SUMMARY:FAM JAM Soup and Song
DESCRIPTION:Join the Church Family at our first Karoake Night! \nEveryone is invited! \nWe will have so much fun. Games and crafts for kids\, Individual or Family Karaoke\, and lots of SOUP! \nSign up in the foyer\, letting us know what kind of Soup you’ll be bringing!
URL:https://northside-ag.org/event/fam-jam-soup-and-song/
LOCATION:Northside Fellowship Hall
CATEGORIES:Family Events
ORGANIZER;CN="Andrea Dickerson":MAILTO:catblandino@gmail.com
END:VEVENT
END:VCALENDAR