BEGIN:VCALENDAR
VERSION:2.0
PRODID:-//NorthSide Assembly of God - ECPv6.2.9//NONSGML v1.0//EN
CALSCALE:GREGORIAN
METHOD:PUBLISH
X-WR-CALNAME:NorthSide Assembly of God
X-ORIGINAL-URL:https://northside-ag.org
X-WR-CALDESC:Events for NorthSide Assembly of God
REFRESH-INTERVAL;VALUE=DURATION:PT1H
X-Robots-Tag:noindex
X-PUBLISHED-TTL:PT1H
BEGIN:VTIMEZONE
TZID:America/Chicago
BEGIN:DAYLIGHT
TZOFFSETFROM:-0600
TZOFFSETTO:-0500
TZNAME:CDT
DTSTART:20260308T080000
END:DAYLIGHT
BEGIN:STANDARD
TZOFFSETFROM:-0500
TZOFFSETTO:-0600
TZNAME:CST
DTSTART:20261101T070000
END:STANDARD
END:VTIMEZONE
BEGIN:VEVENT
DTSTART;TZID=America/Chicago:20260228T093000
DTEND;TZID=America/Chicago:20260228T170000
DTSTAMP:20260420T065347
CREATED:20260112T202440Z
LAST-MODIFIED:20260112T202440Z
UID:2800-1772271000-1772298000@northside-ag.org
SUMMARY:Ladies Sisterhood Tour
DESCRIPTION:Hey NorthSide Ladies! \nJoin us for the Sisterhood Tour. This year it is at Christian Life (1015 Hwy 43 North\, Picayune). \nWe will be taking the van and leaving NorthSide at 9:30AM
URL:https://northside-ag.org/event/ladies-sisterhood-tour/
CATEGORIES:Women's Ministry
ORGANIZER;CN="Barbara Ferguson":MAILTO:barbara@northside-ag.org
END:VEVENT
END:VCALENDAR