BEGIN:VCALENDAR
VERSION:2.0
PRODID:-//NorthSide Assembly of God - ECPv6.2.9//NONSGML v1.0//EN
CALSCALE:GREGORIAN
METHOD:PUBLISH
X-WR-CALNAME:NorthSide Assembly of God
X-ORIGINAL-URL:https://northside-ag.org
X-WR-CALDESC:Events for NorthSide Assembly of God
REFRESH-INTERVAL;VALUE=DURATION:PT1H
X-Robots-Tag:noindex
X-PUBLISHED-TTL:PT1H
BEGIN:VTIMEZONE
TZID:America/Chicago
BEGIN:DAYLIGHT
TZOFFSETFROM:-0600
TZOFFSETTO:-0500
TZNAME:CDT
DTSTART:20240310T080000
END:DAYLIGHT
BEGIN:STANDARD
TZOFFSETFROM:-0500
TZOFFSETTO:-0600
TZNAME:CST
DTSTART:20241103T070000
END:STANDARD
END:VTIMEZONE
BEGIN:VEVENT
DTSTART;TZID=America/Chicago:20240505T100000
DTEND;TZID=America/Chicago:20240505T123000
DTSTAMP:20260423T063702
CREATED:20240428T183243Z
LAST-MODIFIED:20240428T183243Z
UID:2345-1714903200-1714912200@northside-ag.org
SUMMARY:Ministry Staff Appreciation
DESCRIPTION:Our Church family will be honoring Pastor Jose and Sister Lisa Green. There is a table set up in the foyer with cards and a basket if you would like to leave a note or gift for our dynamic duo\, the Greens!
URL:https://northside-ag.org/event/ministry-staff-appreciation/
LOCATION:Sanctuary
CATEGORIES:Church Service
END:VEVENT
END:VCALENDAR