BEGIN:VCALENDAR
VERSION:2.0
PRODID:-//NorthSide Assembly of God - ECPv6.2.9//NONSGML v1.0//EN
CALSCALE:GREGORIAN
METHOD:PUBLISH
X-ORIGINAL-URL:https://northside-ag.org
X-WR-CALDESC:Events for NorthSide Assembly of God
REFRESH-INTERVAL;VALUE=DURATION:PT1H
X-Robots-Tag:noindex
X-PUBLISHED-TTL:PT1H
BEGIN:VTIMEZONE
TZID:America/Chicago
BEGIN:DAYLIGHT
TZOFFSETFROM:-0600
TZOFFSETTO:-0500
TZNAME:CDT
DTSTART:20230312T080000
END:DAYLIGHT
BEGIN:STANDARD
TZOFFSETFROM:-0500
TZOFFSETTO:-0600
TZNAME:CST
DTSTART:20231105T070000
END:STANDARD
END:VTIMEZONE
BEGIN:VEVENT
DTSTART;TZID=America/Chicago:20231004T190000
DTEND;TZID=America/Chicago:20231004T210000
DTSTAMP:20260423T175126
CREATED:20230913T180856Z
LAST-MODIFIED:20230913T180856Z
UID:2101-1696446000-1696453200@northside-ag.org
SUMMARY:Voices of Mobile-Night of Worship
DESCRIPTION:We hope you will join us for this amazing night! Click here for more info: https://northside-ag.org/voices-of-mobile/
URL:https://northside-ag.org/event/voices-of-mobile-night-of-worship/
LOCATION:Sanctuary
CATEGORIES:Children's Ministry,Church Service,Family Events,Men's Ministry,Outreach Event,Women's Ministry,Youth Ministry
END:VEVENT
END:VCALENDAR