BEGIN:VCALENDAR
VERSION:2.0
PRODID:-//NorthSide Assembly of God - ECPv6.2.9//NONSGML v1.0//EN
CALSCALE:GREGORIAN
METHOD:PUBLISH
X-WR-CALNAME:NorthSide Assembly of God
X-ORIGINAL-URL:https://northside-ag.org
X-WR-CALDESC:Events for NorthSide Assembly of God
REFRESH-INTERVAL;VALUE=DURATION:PT1H
X-Robots-Tag:noindex
X-PUBLISHED-TTL:PT1H
BEGIN:VTIMEZONE
TZID:America/Chicago
BEGIN:DAYLIGHT
TZOFFSETFROM:-0600
TZOFFSETTO:-0500
TZNAME:CDT
DTSTART:20240310T080000
END:DAYLIGHT
BEGIN:STANDARD
TZOFFSETFROM:-0500
TZOFFSETTO:-0600
TZNAME:CST
DTSTART:20241103T070000
END:STANDARD
END:VTIMEZONE
BEGIN:VEVENT
DTSTART;TZID=America/Chicago:20240807T190000
DTEND;TZID=America/Chicago:20240807T200000
DTSTAMP:20260423T032759
CREATED:20240806T185336Z
LAST-MODIFIED:20240806T185336Z
UID:2463-1723057200-1723060800@northside-ag.org
SUMMARY:Wednesday Night -Let's Pray
DESCRIPTION:During the Month of August\, our Church is participating with churches all over America in praying over our nation. \nJoin with us at the church from 7:00pm to 8:00pm for corporate prayer. For More info on Wed Nights\, click here: https://northside-ag.org/wednesday-nights/ \nGrab your “Let’s Pray” prayer points here: https://northside-ag.org/lets-pray/ \n  \n 
URL:https://northside-ag.org/event/wednesday-night-lets-pray/
LOCATION:Sanctuary
CATEGORIES:Church Service
END:VEVENT
END:VCALENDAR