BEGIN:VCALENDAR
VERSION:2.0
PRODID:-//NorthSide Assembly of God - ECPv6.2.9//NONSGML v1.0//EN
CALSCALE:GREGORIAN
METHOD:PUBLISH
X-WR-CALNAME:NorthSide Assembly of God
X-ORIGINAL-URL:https://northside-ag.org
X-WR-CALDESC:Events for NorthSide Assembly of God
REFRESH-INTERVAL;VALUE=DURATION:PT1H
X-Robots-Tag:noindex
X-PUBLISHED-TTL:PT1H
BEGIN:VTIMEZONE
TZID:America/Chicago
BEGIN:DAYLIGHT
TZOFFSETFROM:-0600
TZOFFSETTO:-0500
TZNAME:CDT
DTSTART:20240310T080000
END:DAYLIGHT
BEGIN:STANDARD
TZOFFSETFROM:-0500
TZOFFSETTO:-0600
TZNAME:CST
DTSTART:20241103T070000
END:STANDARD
END:VTIMEZONE
BEGIN:VEVENT
DTSTART;TZID=America/Chicago:20241006T090000
DTEND;TZID=America/Chicago:20241006T100000
DTSTAMP:20260423T004443
CREATED:20240806T183457Z
LAST-MODIFIED:20240806T183457Z
UID:2447-1728205200-1728208800@northside-ag.org
SUMMARY:Sausage Biscuits for Sunday School
DESCRIPTION:We have Sausage Biscuits for Sunday School! Order from Barbara (church office) in advance\, and pay when you pick them up in the fellowship hall. Biscuits are $2 each or 2 for $3!
URL:https://northside-ag.org/event/sausage-biscuits-for-sunday-school-21/
LOCATION:Northside Fellowship Hall
CATEGORIES:Church Service
ORGANIZER;CN="Barbara Ferguson":MAILTO:barbara@northside-ag.org
END:VEVENT
END:VCALENDAR