BEGIN:VCALENDAR
VERSION:2.0
PRODID:-//NorthSide Assembly of God - ECPv6.2.9//NONSGML v1.0//EN
CALSCALE:GREGORIAN
METHOD:PUBLISH
X-ORIGINAL-URL:https://northside-ag.org
X-WR-CALDESC:Events for NorthSide Assembly of God
REFRESH-INTERVAL;VALUE=DURATION:PT1H
X-Robots-Tag:noindex
X-PUBLISHED-TTL:PT1H
BEGIN:VTIMEZONE
TZID:America/Chicago
BEGIN:DAYLIGHT
TZOFFSETFROM:-0600
TZOFFSETTO:-0500
TZNAME:CDT
DTSTART:20240310T080000
END:DAYLIGHT
BEGIN:STANDARD
TZOFFSETFROM:-0500
TZOFFSETTO:-0600
TZNAME:CST
DTSTART:20241103T070000
END:STANDARD
END:VTIMEZONE
BEGIN:VEVENT
DTSTART;TZID=America/Chicago:20240910T183000
DTEND;TZID=America/Chicago:20240910T193000
DTSTAMP:20260422T161243
CREATED:20240902T005343Z
LAST-MODIFIED:20240902T005343Z
UID:2482-1725993000-1725996600@northside-ag.org
SUMMARY:Men's Hot Topic
DESCRIPTION:The Men are meeting in the Fellowship Hall at 6:30PM. Grab dinner on the way\, and Join in on the discussion! \nContact Greg for more info: 228.424.6955
URL:https://northside-ag.org/event/mens-hot-topic-15/
LOCATION:Northside Fellowship Hall
CATEGORIES:Men's Ministry
END:VEVENT
END:VCALENDAR