BEGIN:VCALENDAR
VERSION:2.0
PRODID:-//NorthSide Assembly of God - ECPv6.2.9//NONSGML v1.0//EN
CALSCALE:GREGORIAN
METHOD:PUBLISH
X-ORIGINAL-URL:https://northside-ag.org
X-WR-CALDESC:Events for NorthSide Assembly of God
REFRESH-INTERVAL;VALUE=DURATION:PT1H
X-Robots-Tag:noindex
X-PUBLISHED-TTL:PT1H
BEGIN:VTIMEZONE
TZID:America/Chicago
BEGIN:DAYLIGHT
TZOFFSETFROM:-0600
TZOFFSETTO:-0500
TZNAME:CDT
DTSTART:20250309T080000
END:DAYLIGHT
BEGIN:STANDARD
TZOFFSETFROM:-0500
TZOFFSETTO:-0600
TZNAME:CST
DTSTART:20251102T070000
END:STANDARD
END:VTIMEZONE
BEGIN:VEVENT
DTSTART;TZID=America/Chicago:20251014T183000
DTEND;TZID=America/Chicago:20251014T193000
DTSTAMP:20260421T210819
CREATED:20250713T192823Z
LAST-MODIFIED:20250713T192823Z
UID:2742-1760466600-1760470200@northside-ag.org
SUMMARY:Men's Hot Topic
DESCRIPTION:Join the MEN in the Fellowship Hall for an in depth discussion on this month’s topic! Grab dinner on the way and join in! \nWe meet every second Tuesday of the month at 6:30pm.
URL:https://northside-ag.org/event/mens-hot-topic-25/
LOCATION:Northside Fellowship Hall
CATEGORIES:Men's Ministry
END:VEVENT
END:VCALENDAR