BEGIN:VCALENDAR
VERSION:2.0
PRODID:-//NorthSide Assembly of God - ECPv6.2.9//NONSGML v1.0//EN
CALSCALE:GREGORIAN
METHOD:PUBLISH
X-WR-CALNAME:NorthSide Assembly of God
X-ORIGINAL-URL:https://northside-ag.org
X-WR-CALDESC:Events for NorthSide Assembly of God
REFRESH-INTERVAL;VALUE=DURATION:PT1H
X-Robots-Tag:noindex
X-PUBLISHED-TTL:PT1H
BEGIN:VTIMEZONE
TZID:America/Chicago
BEGIN:DAYLIGHT
TZOFFSETFROM:-0600
TZOFFSETTO:-0500
TZNAME:CDT
DTSTART:20250309T080000
END:DAYLIGHT
BEGIN:STANDARD
TZOFFSETFROM:-0500
TZOFFSETTO:-0600
TZNAME:CST
DTSTART:20251102T070000
END:STANDARD
END:VTIMEZONE
BEGIN:VEVENT
DTSTART;TZID=America/Chicago:20250719T113000
DTEND;TZID=America/Chicago:20250719T140000
DTSTAMP:20260422T001903
CREATED:20250713T204827Z
LAST-MODIFIED:20250713T204827Z
UID:2768-1752924600-1752933600@northside-ag.org
SUMMARY:Ladies Escape Room
DESCRIPTION:This is rescheduled from our March 15th event. \nThere are two rooms booked. Each person will pay $21.40. There are still slots open! \nPlease contact Barbara at the church to reserve your spot ASAP!
URL:https://northside-ag.org/event/ladies-escape-room/
CATEGORIES:Women's Ministry
END:VEVENT
END:VCALENDAR