BEGIN:VCALENDAR
VERSION:2.0
PRODID:-//NorthSide Assembly of God - ECPv6.2.9//NONSGML v1.0//EN
CALSCALE:GREGORIAN
METHOD:PUBLISH
X-WR-CALNAME:NorthSide Assembly of God
X-ORIGINAL-URL:https://northside-ag.org
X-WR-CALDESC:Events for NorthSide Assembly of God
REFRESH-INTERVAL;VALUE=DURATION:PT1H
X-Robots-Tag:noindex
X-PUBLISHED-TTL:PT1H
BEGIN:VTIMEZONE
TZID:America/Chicago
BEGIN:DAYLIGHT
TZOFFSETFROM:-0600
TZOFFSETTO:-0500
TZNAME:CDT
DTSTART:20240310T080000
END:DAYLIGHT
BEGIN:STANDARD
TZOFFSETFROM:-0500
TZOFFSETTO:-0600
TZNAME:CST
DTSTART:20241103T070000
END:STANDARD
BEGIN:DAYLIGHT
TZOFFSETFROM:-0600
TZOFFSETTO:-0500
TZNAME:CDT
DTSTART:20250309T080000
END:DAYLIGHT
BEGIN:STANDARD
TZOFFSETFROM:-0500
TZOFFSETTO:-0600
TZNAME:CST
DTSTART:20251102T070000
END:STANDARD
BEGIN:DAYLIGHT
TZOFFSETFROM:-0600
TZOFFSETTO:-0500
TZNAME:CDT
DTSTART:20260308T080000
END:DAYLIGHT
BEGIN:STANDARD
TZOFFSETFROM:-0500
TZOFFSETTO:-0600
TZNAME:CST
DTSTART:20261101T070000
END:STANDARD
END:VTIMEZONE
BEGIN:VEVENT
DTSTART;TZID=America/Chicago:20260215T080000
DTEND;TZID=America/Chicago:20260215T113000
DTSTAMP:20260421T123246
CREATED:20260112T202152Z
LAST-MODIFIED:20260112T202152Z
UID:2798-1771142400-1771155000@northside-ag.org
SUMMARY:Mardi Gras Outreach Day
DESCRIPTION:Join the NorthSide Krew as we serve our community right outside our Church Building. Lots of places to serve. See Lisa and Jose for more information.
URL:https://northside-ag.org/event/mardi-gras-outreach-day-2/
CATEGORIES:Children's Ministry,Church Service,Family Events,Outreach Event,Young Adults,Youth Ministry
END:VEVENT
BEGIN:VEVENT
DTSTART;TZID=America/Chicago:20260116T183000
DTEND;TZID=America/Chicago:20260116T183000
DTSTAMP:20260421T123246
CREATED:20260112T203328Z
LAST-MODIFIED:20260112T203328Z
UID:2804-1768588200-1768588200@northside-ag.org
SUMMARY:Youth Game Night
DESCRIPTION:The Youth are meeting for a fun night\, hanging out! \nSee Pastor Jose for more information!
URL:https://northside-ag.org/event/youth-game-night/
CATEGORIES:Youth Ministry
END:VEVENT
BEGIN:VEVENT
DTSTART;TZID=America/Chicago:20250312T190000
DTEND;TZID=America/Chicago:20250312T200000
DTSTAMP:20260421T123246
CREATED:20250113T154216Z
LAST-MODIFIED:20250113T154328Z
UID:2616-1741806000-1741809600@northside-ag.org
SUMMARY:Wednesday Night Prayer
DESCRIPTION:Join us for Corporate Prayer from 7PM to 8PM. \nWe have classes for all ages at 7PM. (Youth meets at 6PM) \nFor more info about Wednesday Nights\, click here
URL:https://northside-ag.org/event/wednesday-night-prayer-30/
LOCATION:Sanctuary
CATEGORIES:Children's Ministry,Church Service,Youth Ministry
END:VEVENT
BEGIN:VEVENT
DTSTART;TZID=America/Chicago:20250205T190000
DTEND;TZID=America/Chicago:20250205T200000
DTSTAMP:20260421T123246
CREATED:20250113T154101Z
LAST-MODIFIED:20250113T154101Z
UID:2614-1738782000-1738785600@northside-ag.org
SUMMARY:Wednesday Night Prayer
DESCRIPTION:Join us for Corporate Prayer from 7PM to 8PM. \nWe have classes for all ages at 7PM. (Youth meets at 6PM) \nFor more info about Wednesday Nights\, click here
URL:https://northside-ag.org/event/wednesday-night-prayer-25/
LOCATION:Sanctuary
CATEGORIES:Children's Ministry,Church Service,Youth Ministry
END:VEVENT
BEGIN:VEVENT
DTSTART;TZID=America/Chicago:20250129T190000
DTEND;TZID=America/Chicago:20250129T200000
DTSTAMP:20260421T123246
CREATED:20241210T203240Z
LAST-MODIFIED:20241210T203240Z
UID:2571-1738177200-1738180800@northside-ag.org
SUMMARY:Wednesday Night Prayer
DESCRIPTION:Join us for Corporate Prayer from 7PM to 8PM. \nWe have classes for all ages at 7PM. (Youth meets at 6PM) \nFor more info about Wednesday Nights\, click here
URL:https://northside-ag.org/event/wednesday-night-prayer-29/
LOCATION:Sanctuary
CATEGORIES:Children's Ministry,Church Service,Youth Ministry
END:VEVENT
BEGIN:VEVENT
DTSTART;TZID=America/Chicago:20250122T190000
DTEND;TZID=America/Chicago:20250122T200000
DTSTAMP:20260421T123246
CREATED:20241210T203130Z
LAST-MODIFIED:20241210T203130Z
UID:2569-1737572400-1737576000@northside-ag.org
SUMMARY:Wednesday Night Prayer
DESCRIPTION:Join us for Corporate Prayer from 7PM to 8PM. \nWe have classes for all ages at 7PM. (Youth meets at 6PM) \nFor more info about Wednesday Nights\, click here
URL:https://northside-ag.org/event/wednesday-night-prayer-28/
LOCATION:Sanctuary
CATEGORIES:Children's Ministry,Church Service,Youth Ministry
END:VEVENT
BEGIN:VEVENT
DTSTART;TZID=America/Chicago:20250115T190000
DTEND;TZID=America/Chicago:20250115T200000
DTSTAMP:20260421T123246
CREATED:20241210T203026Z
LAST-MODIFIED:20241210T203026Z
UID:2567-1736967600-1736971200@northside-ag.org
SUMMARY:Wednesday Night Prayer
DESCRIPTION:Join us for Corporate Prayer from 7PM to 8PM. \nWe have classes for all ages at 7PM. (Youth meets at 6PM) \nFor more info about Wednesday Nights\, click here
URL:https://northside-ag.org/event/wednesday-night-prayer-27/
LOCATION:Sanctuary
CATEGORIES:Children's Ministry,Church Service,Youth Ministry
END:VEVENT
BEGIN:VEVENT
DTSTART;TZID=America/Chicago:20250108T080000
DTEND;TZID=America/Chicago:20250108T170000
DTSTAMP:20260421T123246
CREATED:20241210T202920Z
LAST-MODIFIED:20241210T202920Z
UID:2565-1736323200-1736355600@northside-ag.org
SUMMARY:Wednesday Night Prayer
DESCRIPTION:Join us for Corporate Prayer from 7PM to 8PM. \nWe have classes for all ages at 7PM. (Youth meets at 6PM) \nFor more info about Wednesday Nights\, click here
URL:https://northside-ag.org/event/wednesday-night-prayer-26/
LOCATION:Sanctuary
CATEGORIES:Children's Ministry,Church Service,Youth Ministry
END:VEVENT
BEGIN:VEVENT
DTSTART;TZID=America/Chicago:20241220T180000
DTEND;TZID=America/Chicago:20241220T200000
DTSTAMP:20260421T123246
CREATED:20241210T203612Z
LAST-MODIFIED:20241210T203612Z
UID:2573-1734717600-1734724800@northside-ag.org
SUMMARY:Youth Christmas Party
DESCRIPTION:All youth are invited to our Christmas Party! Come out for fun!\nMeet in the fellowship Hall at 6:00pm!\nSee Pastor Jose for more info!
URL:https://northside-ag.org/event/youth-christmas-party-2/
LOCATION:Northside Fellowship Hall
CATEGORIES:Youth Ministry
END:VEVENT
BEGIN:VEVENT
DTSTART;TZID=America/Chicago:20241211T190000
DTEND;TZID=America/Chicago:20241211T200000
DTSTAMP:20260421T123246
CREATED:20241210T202654Z
LAST-MODIFIED:20241210T202654Z
UID:2561-1733943600-1733947200@northside-ag.org
SUMMARY:Wednesday Night Prayer
DESCRIPTION:Join us for Corporate Prayer from 7PM to 8PM. \nWe have classes for all ages at 7PM. (Youth meets at 6PM) \nFor more info about Wednesday Nights\, click here
URL:https://northside-ag.org/event/wednesday-night-prayer-24/
LOCATION:Sanctuary
CATEGORIES:Children's Ministry,Church Service,Youth Ministry
END:VEVENT
BEGIN:VEVENT
DTSTART;TZID=America/Chicago:20241120T190000
DTEND;TZID=America/Chicago:20241120T200000
DTSTAMP:20260421T123246
CREATED:20241030T231013Z
LAST-MODIFIED:20241030T231013Z
UID:2545-1732129200-1732132800@northside-ag.org
SUMMARY:Wednesday Night Prayer
DESCRIPTION:Join us for Corporate Prayer from 7PM to 8PM. \nWe have classes for all ages at 7PM. (Youth meets at 6PM) \nFor more info about Wednesday Nights\, click here
URL:https://northside-ag.org/event/wednesday-night-prayer-23/
LOCATION:Sanctuary
CATEGORIES:Children's Ministry,Church Service,Youth Ministry
END:VEVENT
BEGIN:VEVENT
DTSTART;TZID=America/Chicago:20241113T190000
DTEND;TZID=America/Chicago:20241113T200000
DTSTAMP:20260421T123246
CREATED:20241010T142505Z
LAST-MODIFIED:20241010T142505Z
UID:2537-1731524400-1731528000@northside-ag.org
SUMMARY:Wednesday Night Prayer
DESCRIPTION:Join us for Corporate Prayer from 7PM to 8PM. \nWe have classes for all ages at 7PM. (Youth meets at 6PM) \nFor more info about Wednesday Nights\, click here
URL:https://northside-ag.org/event/wednesday-night-prayer-22/
LOCATION:Sanctuary
CATEGORIES:Children's Ministry,Church Service,Youth Ministry
END:VEVENT
BEGIN:VEVENT
DTSTART;TZID=America/Chicago:20241106T190000
DTEND;TZID=America/Chicago:20241106T200000
DTSTAMP:20260421T123246
CREATED:20241010T142357Z
LAST-MODIFIED:20241010T142357Z
UID:2535-1730919600-1730923200@northside-ag.org
SUMMARY:Wednesday Night Prayer
DESCRIPTION:Join us for Corporate Prayer from 7PM to 8PM. \nWe have classes for all ages at 7PM. (Youth meets at 6PM) \nFor more info about Wednesday Nights\, click here
URL:https://northside-ag.org/event/wednesday-night-prayer-21/
LOCATION:Sanctuary
CATEGORIES:Children's Ministry,Church Service,Youth Ministry
END:VEVENT
BEGIN:VEVENT
DTSTART;TZID=America/Chicago:20241030T190000
DTEND;TZID=America/Chicago:20241030T200000
DTSTAMP:20260421T123246
CREATED:20241010T142256Z
LAST-MODIFIED:20241010T142256Z
UID:2533-1730314800-1730318400@northside-ag.org
SUMMARY:Wednesday Night Prayer
DESCRIPTION:Join us for Corporate Prayer from 7PM to 8PM. \nWe have classes for all ages at 7PM. (Youth meets at 6PM) \nFor more info about Wednesday Nights\, click here
URL:https://northside-ag.org/event/wednesday-night-prayer-20/
LOCATION:Sanctuary
CATEGORIES:Children's Ministry,Church Service,Youth Ministry
END:VEVENT
BEGIN:VEVENT
DTSTART;TZID=America/Chicago:20241023T190000
DTEND;TZID=America/Chicago:20241023T200000
DTSTAMP:20260421T123246
CREATED:20241010T142149Z
LAST-MODIFIED:20241010T142149Z
UID:2531-1729710000-1729713600@northside-ag.org
SUMMARY:Wednesday Night Prayer
DESCRIPTION:Join us for Corporate Prayer from 7PM to 8PM. \nWe have classes for all ages at 7PM. (Youth meets at 6PM) \nFor more info about Wednesday Nights\, click here
URL:https://northside-ag.org/event/wednesday-night-prayer-19/
LOCATION:Sanctuary
CATEGORIES:Children's Ministry,Church Service,Youth Ministry
END:VEVENT
BEGIN:VEVENT
DTSTART;TZID=America/Chicago:20241016T190000
DTEND;TZID=America/Chicago:20241016T200000
DTSTAMP:20260421T123246
CREATED:20241010T142032Z
LAST-MODIFIED:20241010T142032Z
UID:2529-1729105200-1729108800@northside-ag.org
SUMMARY:Wednesday Night Prayer
DESCRIPTION:Join us for Corporate Prayer from 7PM to 8PM. \nWe have classes for all ages at 7PM. (Youth meets at 6PM) \nFor more info about Wednesday Nights\, click here
URL:https://northside-ag.org/event/wednesday-night-prayer-18/
LOCATION:Sanctuary
CATEGORIES:Children's Ministry,Church Service,Youth Ministry
END:VEVENT
BEGIN:VEVENT
DTSTART;VALUE=DATE:20240928
DTEND;VALUE=DATE:20240929
DTSTAMP:20260421T123246
CREATED:20240918T032530Z
LAST-MODIFIED:20240918T032530Z
UID:2506-1727481600-1727567999@northside-ag.org
SUMMARY:Paint Ball - open to Everyone
DESCRIPTION:Our young adult group and  World Changers Youth Ministry have organized a paintballing trip\, and YOU are invited to come: this is open to ANYONE. \nSeptember 28th\nCost: $35 for hours of fun\nContact Pastor Jose or Chris Triplett for more details.
URL:https://northside-ag.org/event/paint-ball-open-to-everyone/
CATEGORIES:Young Adults,Youth Ministry
END:VEVENT
BEGIN:VEVENT
DTSTART;VALUE=DATE:20240804
DTEND;VALUE=DATE:20240811
DTSTAMP:20260421T123246
CREATED:20240504T140121Z
LAST-MODIFIED:20240504T140121Z
UID:2377-1722729600-1723334399@northside-ag.org
SUMMARY:Youth-National Youth Convention and Fine Arts Festival
DESCRIPTION:We are headed to Columbus Ohio for this year’s convention.\nAugust 4-10th\nLeaving Church at 1:00PM\nCost will be approximately $500\, and includes Registration\, transportation\, lodging\, and entry to King’s Island Amusement Park.\nSee Pastor Jose for more info. \nFor more info about the conference and to Register\, click here—> https://youthconference.ag.org/ \n 
URL:https://northside-ag.org/event/youth-national-youth-convention-and-fine-arts-festival/
CATEGORIES:Youth Ministry
END:VEVENT
BEGIN:VEVENT
DTSTART;TZID=America/Chicago:20240731T183000
DTEND;TZID=America/Chicago:20240731T200000
DTSTAMP:20260421T123246
CREATED:20240504T135452Z
LAST-MODIFIED:20240720T152201Z
UID:2375-1722450600-1722456000@northside-ag.org
SUMMARY:Tyrone Crawford Music Event
DESCRIPTION:We are so excited to have Tyrone Crawford in the HOUSE! \nJuly 31st @ 6:30pm \nThis is family friendly event\, and everyone of all ages will enjoy this special night.\nInvite your friends and family\, and come out for a GREAT time! \nFor more info\, contact the church at 228.392.3263\nCheck out more about Tyrone and listen to his music at www.tyronecrawfordmusic.com
URL:https://northside-ag.org/event/youth-x5-3/
LOCATION:Sanctuary
CATEGORIES:Family Events,Men's Ministry,Outreach Event,Women's Ministry,Youth Ministry
END:VEVENT
BEGIN:VEVENT
DTSTART;VALUE=DATE:20240710
DTEND;VALUE=DATE:20240714
DTSTAMP:20260421T123246
CREATED:20240428T194815Z
LAST-MODIFIED:20240428T194815Z
UID:2360-1720569600-1720915199@northside-ag.org
SUMMARY:Youth Camp
DESCRIPTION:Youth Camp is July 10-13th! We will leave the church at 8AM \nCost is $185\, but you must register before May 29th! After May 29th\, Price increases to $200. \nExtra Money will be needed for meals while traveling\, concessions at camp\, etc. \nRegister here: https://www.msnextgen.com/event/teen-camp-2-2024/ \n 
URL:https://northside-ag.org/event/youth-camp/
CATEGORIES:Youth Ministry
END:VEVENT
BEGIN:VEVENT
DTSTART;VALUE=DATE:20240621
DTEND;VALUE=DATE:20240622
DTSTAMP:20260421T123246
CREATED:20240504T135248Z
LAST-MODIFIED:20240504T135302Z
UID:2372-1718928000-1719014399@northside-ag.org
SUMMARY:Youth Hangout at Big Play
DESCRIPTION:Hey Youth! Join us for a fun hangout day! See Pastor Jose for times and details!
URL:https://northside-ag.org/event/youth-hangout-at-big-play/
CATEGORIES:Youth Ministry
END:VEVENT
BEGIN:VEVENT
DTSTART;VALUE=DATE:20240604
DTEND;VALUE=DATE:20240605
DTSTAMP:20260421T123246
CREATED:20240504T134950Z
LAST-MODIFIED:20240504T134950Z
UID:2369-1717459200-1717545599@northside-ag.org
SUMMARY:Youth-Trip to water park
DESCRIPTION:Youth is heading to Gulf Islands Water Park! \nCost is $35 if purchased by May 15th. See Pastor Jose for ticket info. \nWe will leave the church at 9AM. Bring extra money for food/concessions.
URL:https://northside-ag.org/event/youth-trip-to-water-park/
CATEGORIES:Youth Ministry
END:VEVENT
BEGIN:VEVENT
DTSTART;TZID=America/Chicago:20240529T180000
DTEND;TZID=America/Chicago:20240529T200000
DTSTAMP:20260421T123246
CREATED:20240504T134432Z
LAST-MODIFIED:20240504T134646Z
UID:2366-1717005600-1717012800@northside-ag.org
SUMMARY:Youth x5
DESCRIPTION:It’s the fifth Wednesday\, and that means X5! Join us for something special\, and Experience the 5th! \nInvite a friend!!
URL:https://northside-ag.org/event/youth-x5-2/
LOCATION:Multipurpose Building
CATEGORIES:Youth Ministry
END:VEVENT
BEGIN:VEVENT
DTSTART;TZID=America/Chicago:20240529T080000
DTEND;TZID=America/Chicago:20240529T170000
DTSTAMP:20260421T123247
CREATED:20240428T194509Z
LAST-MODIFIED:20240428T194859Z
UID:2358-1716969600-1717002000@northside-ag.org
SUMMARY:Money Due for Youth Camp
DESCRIPTION:Youth Camp is July 10-13th! We will leave the church at 8AM \nCost is $185\, but you must register before May 29th! After May 29th\, Price increases to $200. \nExtra Money will be needed for meals while traveling\, concessions at camp\, etc. \nRegister here: https://www.msnextgen.com/event/teen-camp-2-2024/ \n 
URL:https://northside-ag.org/event/money-due-for-youth-camp/
CATEGORIES:Youth Ministry
END:VEVENT
BEGIN:VEVENT
DTSTART;TZID=America/Chicago:20240526T170000
DTEND;TZID=America/Chicago:20240526T200000
DTSTAMP:20260421T123247
CREATED:20240428T192925Z
LAST-MODIFIED:20240428T192925Z
UID:2350-1716742800-1716753600@northside-ag.org
SUMMARY:Shuckers Baseball Game
DESCRIPTION:As a Speed-the-Light fundraiser\, Northside’s Youth Group is sponsoring a trip to Shucker Stadium on Sunday\, May 26th! Our church family always has a blast at the Shuckers’ Games! \nTickets are $15 each. See Pastor Jose for ticket information!
URL:https://northside-ag.org/event/shuckers-baseball-game-2/
LOCATION:MGM Park\, 105 Caillavet St\, Biloxi\, MS\, 39530\, United States
CATEGORIES:Family Events,Youth Ministry
END:VEVENT
BEGIN:VEVENT
DTSTART;TZID=America/Chicago:20240517T170000
DTEND;TZID=America/Chicago:20240517T190000
DTSTAMP:20260421T123247
CREATED:20240504T134233Z
LAST-MODIFIED:20240504T134233Z
UID:2364-1715965200-1715972400@northside-ag.org
SUMMARY:Youth Group-Game Night
DESCRIPTION:Come hang out with us for fun and games! \nFriday\, May 17th\n5-7pm\nSee Pastor Jose for more info!
URL:https://northside-ag.org/event/youth-group-game-night/
LOCATION:Multipurpose Building
CATEGORIES:Youth Ministry
END:VEVENT
BEGIN:VEVENT
DTSTART;TZID=America/Chicago:20240323T090000
DTEND;TZID=America/Chicago:20240323T130000
DTSTAMP:20260421T123247
CREATED:20240109T210608Z
LAST-MODIFIED:20240109T211025Z
UID:2283-1711184400-1711198800@northside-ag.org
SUMMARY:Zip Line and Obstacle Course (Youth)
DESCRIPTION:Leaving church at 9AM.\nCost is $45 (does NOT include food/meals). \nDeadline to pay/sign up is March 6th! \nOpen to anyone. Will stop for meal afterwards.
URL:https://northside-ag.org/event/zip-line-and-obstacle-course-youth/
CATEGORIES:Youth Ministry
END:VEVENT
BEGIN:VEVENT
DTSTART;TZID=America/Chicago:20240301T090000
DTEND;TZID=America/Chicago:20240302T180000
DTSTAMP:20260421T123247
CREATED:20240109T210310Z
LAST-MODIFIED:20240109T210310Z
UID:2281-1709283600-1709402400@northside-ag.org
SUMMARY:Spring Youth Convention
DESCRIPTION:Located at King City Church in Tupelo\, MS \nMarch 1st-2nd. Cost is $120 and includes registration\, rooms\, and transportation (does NOT include meals). \nDeadline to Register/Pay is February 14th. See Jose for more info. \nRegister here: https://msnextgen.regfox.com/youth-conference-2024
URL:https://northside-ag.org/event/spring-youth-convention/
CATEGORIES:Youth Ministry
END:VEVENT
BEGIN:VEVENT
DTSTART;TZID=America/Chicago:20240209T080000
DTEND;TZID=America/Chicago:20240209T170000
DTSTAMP:20260421T123247
CREATED:20240109T204542Z
LAST-MODIFIED:20240109T204542Z
UID:2272-1707465600-1707498000@northside-ag.org
SUMMARY:Hangout Night (Youth)
DESCRIPTION:Movie and Game Night!\nOpen to anyone grades 6-12. Invite a friend!\nCafe will be open!
URL:https://northside-ag.org/event/hangout-night-youth/
LOCATION:Multipurpose Building
CATEGORIES:Youth Ministry
END:VEVENT
BEGIN:VEVENT
DTSTART;TZID=America/Chicago:20240131T180000
DTEND;TZID=America/Chicago:20240131T200000
DTSTAMP:20260421T123247
CREATED:20240109T204331Z
LAST-MODIFIED:20240109T204331Z
UID:2270-1706724000-1706731200@northside-ag.org
SUMMARY:X5 (Youth)
DESCRIPTION:It’s the 5th Wednesday of the Month\, and that means X5! \nExperience the 5th!\nInvite a friend for different and exciting service!
URL:https://northside-ag.org/event/x5-youth/
LOCATION:Multipurpose Building
CATEGORIES:Youth Ministry
END:VEVENT
END:VCALENDAR