BEGIN:VCALENDAR
VERSION:2.0
PRODID:-//NorthSide Assembly of God - ECPv6.2.9//NONSGML v1.0//EN
CALSCALE:GREGORIAN
METHOD:PUBLISH
X-WR-CALNAME:NorthSide Assembly of God
X-ORIGINAL-URL:https://northside-ag.org
X-WR-CALDESC:Events for NorthSide Assembly of God
REFRESH-INTERVAL;VALUE=DURATION:PT1H
X-Robots-Tag:noindex
X-PUBLISHED-TTL:PT1H
BEGIN:VTIMEZONE
TZID:America/Chicago
BEGIN:DAYLIGHT
TZOFFSETFROM:-0600
TZOFFSETTO:-0500
TZNAME:CDT
DTSTART:20260308T080000
END:DAYLIGHT
BEGIN:STANDARD
TZOFFSETFROM:-0500
TZOFFSETTO:-0600
TZNAME:CST
DTSTART:20261101T070000
END:STANDARD
END:VTIMEZONE
BEGIN:VEVENT
DTSTART;TZID=America/Chicago:20260116T183000
DTEND;TZID=America/Chicago:20260116T183000
DTSTAMP:20260420T110319
CREATED:20260112T203328Z
LAST-MODIFIED:20260112T203328Z
UID:2804-1768588200-1768588200@northside-ag.org
SUMMARY:Youth Game Night
DESCRIPTION:The Youth are meeting for a fun night\, hanging out! \nSee Pastor Jose for more information!
URL:https://northside-ag.org/event/youth-game-night/
CATEGORIES:Youth Ministry
END:VEVENT
BEGIN:VEVENT
DTSTART;TZID=America/Chicago:20260124T173000
DTEND;TZID=America/Chicago:20260124T190000
DTSTAMP:20260420T110319
CREATED:20260112T203055Z
LAST-MODIFIED:20260112T203055Z
UID:2802-1769275800-1769281200@northside-ag.org
SUMMARY:FAM JAM Soup and Song
DESCRIPTION:Join the Church Family at our first Karoake Night! \nEveryone is invited! \nWe will have so much fun. Games and crafts for kids\, Individual or Family Karaoke\, and lots of SOUP! \nSign up in the foyer\, letting us know what kind of Soup you’ll be bringing!
URL:https://northside-ag.org/event/fam-jam-soup-and-song/
LOCATION:Northside Fellowship Hall
CATEGORIES:Family Events
ORGANIZER;CN="Andrea Dickerson":MAILTO:catblandino@gmail.com
END:VEVENT
BEGIN:VEVENT
DTSTART;TZID=America/Chicago:20260207T080000
DTEND;TZID=America/Chicago:20260207T103000
DTSTAMP:20260420T110319
CREATED:20260114T015817Z
LAST-MODIFIED:20260114T015817Z
UID:2810-1770451200-1770460200@northside-ag.org
SUMMARY:Reflecting Christ Ministry
DESCRIPTION:We are meeting the needs of our “street friends” on the First Saturday of each month. We’d love to have you join! Meet at the Church Multipurpose Room at 8AM and we will travel from there to hand out food and supplies. \nContact Gina for more information.(228.493.3379)
URL:https://northside-ag.org/event/reflecting-christ-ministry-9/
LOCATION:Multipurpose Building
CATEGORIES:Outreach Event
END:VEVENT
BEGIN:VEVENT
DTSTART;TZID=America/Chicago:20260210T183000
DTEND;TZID=America/Chicago:20260210T193000
DTSTAMP:20260420T110319
CREATED:20260112T201147Z
LAST-MODIFIED:20260112T201147Z
UID:2792-1770748200-1770751800@northside-ag.org
SUMMARY:Men's Hot Topic
DESCRIPTION:Hey Guys! \nJoin us for a group discussion on a Hot topic in today’s church world. \nGrab dinner and meet in the Fellowship Hall at 6:30pm.
URL:https://northside-ag.org/event/mens-hot-topic-29/
LOCATION:Northside Fellowship Hall
CATEGORIES:Men's Ministry
END:VEVENT
BEGIN:VEVENT
DTSTART;TZID=America/Chicago:20260215T080000
DTEND;TZID=America/Chicago:20260215T113000
DTSTAMP:20260420T110319
CREATED:20260112T202152Z
LAST-MODIFIED:20260112T202152Z
UID:2798-1771142400-1771155000@northside-ag.org
SUMMARY:Mardi Gras Outreach Day
DESCRIPTION:Join the NorthSide Krew as we serve our community right outside our Church Building. Lots of places to serve. See Lisa and Jose for more information.
URL:https://northside-ag.org/event/mardi-gras-outreach-day-2/
CATEGORIES:Children's Ministry,Church Service,Family Events,Outreach Event,Young Adults,Youth Ministry
END:VEVENT
BEGIN:VEVENT
DTSTART;TZID=America/Chicago:20260218T190000
DTEND;TZID=America/Chicago:20260218T200000
DTSTAMP:20260420T110319
CREATED:20260112T201855Z
LAST-MODIFIED:20260114T132216Z
UID:2796-1771441200-1771444800@northside-ag.org
SUMMARY:Annual Membership Business Meeting
DESCRIPTION:Members of the church are invited to join for Business Meeting at 7:00 PM. \nAre you a registered member of NorthSide?\nInterested in becoming a member?\nContact the church office for information and membership applications. \n 
URL:https://northside-ag.org/event/annual-membership-business-meeting/
LOCATION:Sanctuary
ORGANIZER;CN="Barbara Ferguson":MAILTO:barbara@northside-ag.org
END:VEVENT
BEGIN:VEVENT
DTSTART;TZID=America/Chicago:20260228T093000
DTEND;TZID=America/Chicago:20260228T170000
DTSTAMP:20260420T110319
CREATED:20260112T202440Z
LAST-MODIFIED:20260112T202440Z
UID:2800-1772271000-1772298000@northside-ag.org
SUMMARY:Ladies Sisterhood Tour
DESCRIPTION:Hey NorthSide Ladies! \nJoin us for the Sisterhood Tour. This year it is at Christian Life (1015 Hwy 43 North\, Picayune). \nWe will be taking the van and leaving NorthSide at 9:30AM
URL:https://northside-ag.org/event/ladies-sisterhood-tour/
CATEGORIES:Women's Ministry
ORGANIZER;CN="Barbara Ferguson":MAILTO:barbara@northside-ag.org
END:VEVENT
BEGIN:VEVENT
DTSTART;TZID=America/Chicago:20260307T080000
DTEND;TZID=America/Chicago:20260307T103000
DTSTAMP:20260420T110319
CREATED:20260114T015945Z
LAST-MODIFIED:20260114T015945Z
UID:2812-1772870400-1772879400@northside-ag.org
SUMMARY:Reflecting Christ Ministry
DESCRIPTION:We are meeting the needs of our “street friends” on the First Saturday of each month. We’d love to have you join! Meet at the Church Multipurpose Room at 8AM and we will travel from there to hand out food and supplies. \nContact Gina for more information.(228.493.3379)
URL:https://northside-ag.org/event/reflecting-christ-ministry-10/
LOCATION:Multipurpose Building
CATEGORIES:Outreach Event
END:VEVENT
BEGIN:VEVENT
DTSTART;TZID=America/Chicago:20260310T183000
DTEND;TZID=America/Chicago:20260310T193000
DTSTAMP:20260420T110319
CREATED:20260112T201350Z
LAST-MODIFIED:20260112T201350Z
UID:2794-1773167400-1773171000@northside-ag.org
SUMMARY:Men's Hot Topic
DESCRIPTION:Hey Guys! \nJoin us for a group discussion on a Hot topic in today’s church world. \nGrab dinner and meet in the Fellowship Hall at 6:30pm.
URL:https://northside-ag.org/event/mens-hot-topic-30/
LOCATION:Northside Fellowship Hall
CATEGORIES:Men's Ministry
END:VEVENT
BEGIN:VEVENT
DTSTART;TZID=America/Chicago:20260314T103000
DTEND;TZID=America/Chicago:20260314T113000
DTSTAMP:20260420T110319
CREATED:20260112T203606Z
LAST-MODIFIED:20260112T203606Z
UID:2806-1773484200-1773487800@northside-ag.org
SUMMARY:Ladies Brunch
DESCRIPTION:Join the ladies at NorthSide Fellowship Hall for tasty Brunch. Sign up in the foyer\, letting us know what you’ll be bringing! \n 
URL:https://northside-ag.org/event/ladies-brunch-6/
LOCATION:Northside Fellowship Hall
CATEGORIES:Women's Ministry
ORGANIZER;CN="Barbara Ferguson":MAILTO:barbara@northside-ag.org
END:VEVENT
BEGIN:VEVENT
DTSTART;TZID=America/Chicago:20260315T113000
DTEND;TZID=America/Chicago:20260315T123000
DTSTAMP:20260420T110319
CREATED:20260112T203839Z
LAST-MODIFIED:20260112T203839Z
UID:2808-1773574200-1773577800@northside-ag.org
SUMMARY:Chili Fundraiser
DESCRIPTION:The Ladies are hosting a fundraiser after church to raise money for missions. \nJoin us in the Fellowship Hall right after church! \nLadies\, please let us know if you can help out!
URL:https://northside-ag.org/event/chili-fundraiser/
LOCATION:Northside Fellowship Hall
CATEGORIES:Family Events,Women's Ministry
ORGANIZER;CN="Barbara Ferguson":MAILTO:barbara@northside-ag.org
END:VEVENT
BEGIN:VEVENT
DTSTART;TZID=America/Chicago:20260404T080000
DTEND;TZID=America/Chicago:20260404T103000
DTSTAMP:20260420T110319
CREATED:20260114T020100Z
LAST-MODIFIED:20260114T020100Z
UID:2814-1775289600-1775298600@northside-ag.org
SUMMARY:Reflecting Christ Ministry
DESCRIPTION:We are meeting the needs of our “street friends” on the First Saturday of each month. We’d love to have you join! Meet at the Church Multipurpose Room at 8AM and we will travel from there to hand out food and supplies. \nContact Gina for more information.(228.493.3379)
URL:https://northside-ag.org/event/reflecting-christ-ministry-11/
LOCATION:Multipurpose Building
CATEGORIES:Outreach Event
END:VEVENT
BEGIN:VEVENT
DTSTART;TZID=America/Chicago:20260414T183000
DTEND;TZID=America/Chicago:20260414T203000
DTSTAMP:20260420T110319
CREATED:20260114T020546Z
LAST-MODIFIED:20260114T020546Z
UID:2822-1776191400-1776198600@northside-ag.org
SUMMARY:Men's Hot Topic
DESCRIPTION:Hey Guys! \nJoin us for a group discussion on a Hot topic in today’s church world. \nGrab dinner and meet in the Fellowship Hall at 6:30pm.
URL:https://northside-ag.org/event/mens-hot-topic-31/
LOCATION:Northside Fellowship Hall
CATEGORIES:Men's Ministry
END:VEVENT
BEGIN:VEVENT
DTSTART;TZID=America/Chicago:20260502T080000
DTEND;TZID=America/Chicago:20260502T103000
DTSTAMP:20260420T110319
CREATED:20260114T020212Z
LAST-MODIFIED:20260114T020212Z
UID:2816-1777708800-1777717800@northside-ag.org
SUMMARY:Reflecting Christ Ministry
DESCRIPTION:We are meeting the needs of our “street friends” on the First Saturday of each month. We’d love to have you join! Meet at the Church Multipurpose Room at 8AM and we will travel from there to hand out food and supplies. \nContact Gina for more information.(228.493.3379)
URL:https://northside-ag.org/event/reflecting-christ-ministry-12/
LOCATION:Multipurpose Building
CATEGORIES:Outreach Event
END:VEVENT
BEGIN:VEVENT
DTSTART;TZID=America/Chicago:20260512T183000
DTEND;TZID=America/Chicago:20260512T200000
DTSTAMP:20260420T110319
CREATED:20260114T020704Z
LAST-MODIFIED:20260114T020704Z
UID:2824-1778610600-1778616000@northside-ag.org
SUMMARY:Men's Hot Topic
DESCRIPTION:Hey Guys! \nJoin us for a group discussion on a Hot topic in today’s church world. \nGrab dinner and meet in the Fellowship Hall at 6:30pm.
URL:https://northside-ag.org/event/mens-hot-topic-32/
LOCATION:Northside Fellowship Hall
CATEGORIES:Men's Ministry
END:VEVENT
BEGIN:VEVENT
DTSTART;TZID=America/Chicago:20260606T080000
DTEND;TZID=America/Chicago:20260606T103000
DTSTAMP:20260420T110319
CREATED:20260114T020312Z
LAST-MODIFIED:20260114T020312Z
UID:2818-1780732800-1780741800@northside-ag.org
SUMMARY:Reflecting Christ Ministry
DESCRIPTION:We are meeting the needs of our “street friends” on the First Saturday of each month. We’d love to have you join! Meet at the Church Multipurpose Room at 8AM and we will travel from there to hand out food and supplies. \nContact Gina for more information.(228.493.3379)
URL:https://northside-ag.org/event/reflecting-christ-ministry-13/
LOCATION:Multipurpose Building
CATEGORIES:Outreach Event
END:VEVENT
BEGIN:VEVENT
DTSTART;TZID=America/Chicago:20260609T183000
DTEND;TZID=America/Chicago:20260609T200000
DTSTAMP:20260420T110319
CREATED:20260114T020823Z
LAST-MODIFIED:20260114T020823Z
UID:2826-1781029800-1781035200@northside-ag.org
SUMMARY:Men's Hot Topic
DESCRIPTION:Hey Guys! \nJoin us for a group discussion on a Hot topic in today’s church world. \nGrab dinner and meet in the Fellowship Hall at 6:30pm.
URL:https://northside-ag.org/event/mens-hot-topic-33/
LOCATION:Northside Fellowship Hall
CATEGORIES:Men's Ministry
END:VEVENT
BEGIN:VEVENT
DTSTART;TZID=America/Chicago:20260711T080000
DTEND;TZID=America/Chicago:20260711T103000
DTSTAMP:20260420T110319
CREATED:20260114T020418Z
LAST-MODIFIED:20260114T020418Z
UID:2820-1783756800-1783765800@northside-ag.org
SUMMARY:Reflecting Christ Ministry
DESCRIPTION:We are meeting the needs of our “street friends” on the First Saturday of each month. We’d love to have you join! Meet at the Church Multipurpose Room at 8AM and we will travel from there to hand out food and supplies. \nContact Gina for more information.(228.493.3379)
URL:https://northside-ag.org/event/reflecting-christ-ministry-14/
LOCATION:Multipurpose Building
CATEGORIES:Outreach Event
END:VEVENT
BEGIN:VEVENT
DTSTART;TZID=America/Chicago:20260714T183000
DTEND;TZID=America/Chicago:20260714T200000
DTSTAMP:20260420T110319
CREATED:20260114T020927Z
LAST-MODIFIED:20260114T020927Z
UID:2829-1784053800-1784059200@northside-ag.org
SUMMARY:Men's Hot Topic
DESCRIPTION:Hey Guys! \nJoin us for a group discussion on a Hot topic in today’s church world. \nGrab dinner and meet in the Fellowship Hall at 6:30pm.
URL:https://northside-ag.org/event/mens-hot-topic-34/
LOCATION:Northside Fellowship Hall
CATEGORIES:Men's Ministry
END:VEVENT
END:VCALENDAR