BEGIN:VCALENDAR
VERSION:2.0
PRODID:-//NorthSide Assembly of God - ECPv6.2.9//NONSGML v1.0//EN
CALSCALE:GREGORIAN
METHOD:PUBLISH
X-WR-CALNAME:NorthSide Assembly of God
X-ORIGINAL-URL:https://northside-ag.org
X-WR-CALDESC:Events for NorthSide Assembly of God
REFRESH-INTERVAL;VALUE=DURATION:PT1H
X-Robots-Tag:noindex
X-PUBLISHED-TTL:PT1H
BEGIN:VTIMEZONE
TZID:America/Chicago
BEGIN:DAYLIGHT
TZOFFSETFROM:-0600
TZOFFSETTO:-0500
TZNAME:CDT
DTSTART:20230312T080000
END:DAYLIGHT
BEGIN:STANDARD
TZOFFSETFROM:-0500
TZOFFSETTO:-0600
TZNAME:CST
DTSTART:20231105T070000
END:STANDARD
END:VTIMEZONE
BEGIN:VEVENT
DTSTART;TZID=America/Chicago:20230903T083000
DTEND;TZID=America/Chicago:20230903T090000
DTSTAMP:20260421T094044
CREATED:20230808T033339Z
LAST-MODIFIED:20230808T033339Z
UID:2045-1693729800-1693731600@northside-ag.org
SUMMARY:Sausage Biscuits
DESCRIPTION:We have Sausage Biscuits for Sunday School! Order from Barbara (church office) in advance\, and pay when you pick them up in the fellowship hall.
URL:https://northside-ag.org/event/sausage-biscuits-2/
LOCATION:Northside Fellowship Hall
CATEGORIES:Church Service
ORGANIZER;CN="Barbara Ferguson":MAILTO:barbara@northside-ag.org
END:VEVENT
BEGIN:VEVENT
DTSTART;TZID=America/Chicago:20230831T130000
DTEND;TZID=America/Chicago:20230831T180000
DTSTAMP:20260421T094044
CREATED:20230806T184057Z
LAST-MODIFIED:20230806T184057Z
UID:2043-1693486800-1693504800@northside-ag.org
SUMMARY:Quilting and Crafting
DESCRIPTION:Hey Ladies! Join us in the fellowship hall from 1-6pm!
URL:https://northside-ag.org/event/quilting-and-crafting-7/
LOCATION:Northside Fellowship Hall
CATEGORIES:Women's Ministry
END:VEVENT
BEGIN:VEVENT
DTSTART;TZID=America/Chicago:20230830T190000
DTEND;TZID=America/Chicago:20230830T200000
DTSTAMP:20260421T094044
CREATED:20230806T183430Z
LAST-MODIFIED:20230806T183430Z
UID:2038-1693422000-1693425600@northside-ag.org
SUMMARY:Wednesday Night Prayer
DESCRIPTION:Join us for 1 hour of prayer! (Click above for more info) \nNursery and Children’s Church at 7pm. Youth at 6pm.
URL:https://northside-ag.org/event/wednesday-night-prayer-11/
LOCATION:Sanctuary
CATEGORIES:Children's Ministry,Church Service,Youth Ministry
END:VEVENT
BEGIN:VEVENT
DTSTART;TZID=America/Chicago:20230830T180000
DTEND;TZID=America/Chicago:20230830T200000
DTSTAMP:20260421T094044
CREATED:20230806T183724Z
LAST-MODIFIED:20230819T190257Z
UID:2040-1693418400-1693425600@northside-ag.org
SUMMARY:Youth X5!!
DESCRIPTION:It’s the 5th Wednesday of the month and that means…something special for our Youth!\nInvite a friend! We’ll have a few special guests “getting real” with us about life.\nWe’ll see you at 6pm at the Church!
URL:https://northside-ag.org/event/youth-x5/
LOCATION:Multipurpose Building
CATEGORIES:Youth Ministry
END:VEVENT
BEGIN:VEVENT
DTSTART;TZID=America/Chicago:20230827T113000
DTEND;TZID=America/Chicago:20230827T120000
DTSTAMP:20260421T094044
CREATED:20230806T181858Z
LAST-MODIFIED:20230806T181858Z
UID:2024-1693135800-1693137600@northside-ag.org
SUMMARY:Bake Sale for Missions!
DESCRIPTION:After service! \nBe sure to stop by the foyer and froth hallway for some homemade goodies! Proceeds go to missions. Thanks for your continued support!
URL:https://northside-ag.org/event/bake-sale-for-missions/
LOCATION:Sanctuary
CATEGORIES:Family Events,Women's Ministry
ORGANIZER;CN="Barbara Ferguson":MAILTO:barbara@northside-ag.org
END:VEVENT
BEGIN:VEVENT
DTSTART;VALUE=DATE:20230826
DTEND;VALUE=DATE:20230827
DTSTAMP:20260421T094044
CREATED:20230629T022741Z
LAST-MODIFIED:20230629T022803Z
UID:1963-1693008000-1693094399@northside-ag.org
SUMMARY:Horseback Riding (Youth Group)
DESCRIPTION:Join us on Saturday\, August 26th for horseback riding adventures at Splendor Farms in Bush\, LA. \nThe cost is $50. (This event is limited to the first 10 people to sign up.) \nWe are leaving the church at 7:30AM. \nContact Jose Green for more info @ 228.337-0284 or jose@northside-ag.org
URL:https://northside-ag.org/event/horseback-riding-youth-group/
LOCATION:Sanctuary
CATEGORIES:Youth Ministry
END:VEVENT
BEGIN:VEVENT
DTSTART;TZID=America/Chicago:20230824T130000
DTEND;TZID=America/Chicago:20230824T180000
DTSTAMP:20260421T094044
CREATED:20230806T182253Z
LAST-MODIFIED:20230806T182253Z
UID:2029-1692882000-1692900000@northside-ag.org
SUMMARY:Quilting and Crafting
DESCRIPTION:Hey Ladies! Join us in the fellowship hall from 1-6pm.
URL:https://northside-ag.org/event/quilting-and-crafting-6/
LOCATION:Northside Fellowship Hall
CATEGORIES:Women's Ministry
END:VEVENT
BEGIN:VEVENT
DTSTART;TZID=America/Chicago:20230823T190000
DTEND;TZID=America/Chicago:20230823T200000
DTSTAMP:20260421T094044
CREATED:20230806T183102Z
LAST-MODIFIED:20230806T183102Z
UID:2036-1692817200-1692820800@northside-ag.org
SUMMARY:Wednesday Night Prayer
DESCRIPTION:Join us for 1 hour of prayer! (Click above for more info) \nNursery and Children’s Church at 7pm. Youth at 6pm.
URL:https://northside-ag.org/event/wednesday-night-prayer-10/
LOCATION:Sanctuary
CATEGORIES:Children's Ministry,Church Service,Youth Ministry
END:VEVENT
BEGIN:VEVENT
DTSTART;TZID=America/Chicago:20230820T083000
DTEND;TZID=America/Chicago:20230820T090000
DTSTAMP:20260421T094044
CREATED:20230806T182130Z
LAST-MODIFIED:20230806T182130Z
UID:2027-1692520200-1692522000@northside-ag.org
SUMMARY:Sausage Biscuits
DESCRIPTION:We have Sausage Biscuits for Sunday School! Order from Barbara (church office) in advance\, and pay when you pick them up in the fellowship hall.
URL:https://northside-ag.org/event/sausage-biscuits/
LOCATION:Northside Fellowship Hall
CATEGORIES:Church Service
ORGANIZER;CN="Barbara Ferguson":MAILTO:barbara@northside-ag.org
END:VEVENT
BEGIN:VEVENT
DTSTART;TZID=America/Chicago:20230817T130000
DTEND;TZID=America/Chicago:20230817T180000
DTSTAMP:20260421T094044
CREATED:20230806T180850Z
LAST-MODIFIED:20230806T180850Z
UID:2022-1692277200-1692295200@northside-ag.org
SUMMARY:Quilting and Crafting
DESCRIPTION:Hey Ladies! Join us in the fellowship hall from 1-6pm!
URL:https://northside-ag.org/event/quilting-and-crafting-5/
LOCATION:Northside Fellowship Hall
CATEGORIES:Women's Ministry
END:VEVENT
BEGIN:VEVENT
DTSTART;TZID=America/Chicago:20230816T190000
DTEND;TZID=America/Chicago:20230816T200000
DTSTAMP:20260421T094044
CREATED:20230806T182907Z
LAST-MODIFIED:20230808T033048Z
UID:2034-1692212400-1692216000@northside-ag.org
SUMMARY:Wednesday Night Prayer
DESCRIPTION:Join us for 1 hour of prayer! (Click above for more info) \nNursery and Children’s Church at 7pm. Youth at 6pm.
URL:https://northside-ag.org/event/wednesday-night-prayer-9/
LOCATION:Sanctuary
CATEGORIES:Children's Ministry,Church Service,Youth Ministry
END:VEVENT
BEGIN:VEVENT
DTSTART;TZID=America/Chicago:20230812T100000
DTEND;TZID=America/Chicago:20230812T113000
DTSTAMP:20260421T094044
CREATED:20230806T180611Z
LAST-MODIFIED:20230806T180720Z
UID:2018-1691834400-1691839800@northside-ag.org
SUMMARY:Ladies Brunch
DESCRIPTION:Hey Ladies! \nCome join us for fellowship and food! There is room for you at the table! \nBring a covered dish to share. See you there!
URL:https://northside-ag.org/event/ladies-brunch/
LOCATION:Northside Fellowship Hall
CATEGORIES:Women's Ministry
ORGANIZER;CN="Barbara Ferguson":MAILTO:barbara@northside-ag.org
END:VEVENT
BEGIN:VEVENT
DTSTART;TZID=America/Chicago:20230810T130000
DTEND;TZID=America/Chicago:20230810T180000
DTSTAMP:20260421T094044
CREATED:20230806T180354Z
LAST-MODIFIED:20230806T180354Z
UID:2016-1691672400-1691690400@northside-ag.org
SUMMARY:Quilting And Crafting
DESCRIPTION:Join the ladies in the fellowship hall from 1-6pm!
URL:https://northside-ag.org/event/quilting-and-crafting-4/
LOCATION:Northside Fellowship Hall
CATEGORIES:Women's Ministry
END:VEVENT
BEGIN:VEVENT
DTSTART;TZID=America/Chicago:20230809T190000
DTEND;TZID=America/Chicago:20230809T200000
DTSTAMP:20260421T094044
CREATED:20230806T182617Z
LAST-MODIFIED:20230806T182637Z
UID:2031-1691607600-1691611200@northside-ag.org
SUMMARY:Wednesday Night Prayer
DESCRIPTION:Join us for 1 hour of prayer! (Click above for more info) \nNursery and Children’s Church at 7pm. Youth at 6pm.
URL:https://northside-ag.org/event/wednesday-night-prayer-8/
LOCATION:Sanctuary
CATEGORIES:Children's Ministry,Church Service,Youth Ministry
END:VEVENT
BEGIN:VEVENT
DTSTART;TZID=America/Chicago:20230808T183000
DTEND;TZID=America/Chicago:20230808T200000
DTSTAMP:20260421T094044
CREATED:20230806T180132Z
LAST-MODIFIED:20230806T180132Z
UID:2012-1691519400-1691524800@northside-ag.org
SUMMARY:Men's Hot Topic
DESCRIPTION:Grab some dinner on the way\, and join us in the fellowship hall at 6:30pm!
URL:https://northside-ag.org/event/mens-hot-topic-3/
LOCATION:Northside Fellowship Hall
CATEGORIES:Men's Ministry
END:VEVENT
BEGIN:VEVENT
DTSTART;TZID=America/Chicago:20230730T090000
DTEND;TZID=America/Chicago:20230730T093000
DTSTAMP:20260421T094044
CREATED:20230629T025601Z
LAST-MODIFIED:20230629T025656Z
UID:1980-1690707600-1690709400@northside-ag.org
SUMMARY:Sausage and Biscuits
DESCRIPTION: Order your Sausage Biscuit in advance by contacting Barbara at the office. \nYou’ll pay when you pick it up. Enjoy!!
URL:https://northside-ag.org/event/sausage-and-biscuits-3/
LOCATION:Northside Fellowship Hall
CATEGORIES:Church Service
ORGANIZER;CN="Barbara Ferguson":MAILTO:barbara@northside-ag.org
END:VEVENT
BEGIN:VEVENT
DTSTART;TZID=America/Chicago:20230716T090000
DTEND;TZID=America/Chicago:20230716T093000
DTSTAMP:20260421T094044
CREATED:20230629T025440Z
LAST-MODIFIED:20230629T025440Z
UID:1978-1689498000-1689499800@northside-ag.org
SUMMARY:Sausage and Biscuits
DESCRIPTION: Order your Sausage Biscuit in advance by contacting Barbara at the office. \nYou’ll pay when you pick it up. Enjoy!!
URL:https://northside-ag.org/event/sausage-and-biscuits-2/
LOCATION:Northside Fellowship Hall
CATEGORIES:Church Service
ORGANIZER;CN="Barbara Ferguson":MAILTO:barbara@northside-ag.org
END:VEVENT
BEGIN:VEVENT
DTSTART;TZID=America/Chicago:20230715T110000
DTEND;TZID=America/Chicago:20230715T130000
DTSTAMP:20260421T094044
CREATED:20230629T022204Z
LAST-MODIFIED:20230629T022204Z
UID:1957-1689418800-1689426000@northside-ag.org
SUMMARY:Ladies Hot Topics
DESCRIPTION:
URL:https://northside-ag.org/event/ladies-hot-topics/
LOCATION:Northside Fellowship Hall
CATEGORIES:Women's Ministry
END:VEVENT
BEGIN:VEVENT
DTSTART;TZID=America/Chicago:20230711T183000
DTEND;TZID=America/Chicago:20230711T203000
DTSTAMP:20260421T094044
CREATED:20230629T025948Z
LAST-MODIFIED:20230629T025948Z
UID:1982-1689100200-1689107400@northside-ag.org
SUMMARY:Men's Hot Topic
DESCRIPTION:  \nJoin the men of NorthSide for discussion on relevant issues in our culture! \nWe meet at 6:30pm in the Fellowship Hall. Grab dinner on the way and join in!! \nSee Brother Greg for more information!
URL:https://northside-ag.org/event/mens-hot-topic-2/
LOCATION:Northside Fellowship Hall
CATEGORIES:Men's Ministry
END:VEVENT
BEGIN:VEVENT
DTSTART;TZID=America/Chicago:20230710T080000
DTEND;TZID=America/Chicago:20230715T170000
DTSTAMP:20260421T094044
CREATED:20230507T203228Z
LAST-MODIFIED:20230510T184031Z
UID:1782-1688976000-1689440400@northside-ag.org
SUMMARY:Teen Camp
DESCRIPTION:Click here to register \nPlease meet at the church at 8am on July 10th. \nExtra cash will be needed for meals while traveling as well as for concessions at camp\, etc. \nCost is $225.
URL:https://northside-ag.org/event/teen-camp/
LOCATION:Sanctuary
CATEGORIES:Youth Ministry
END:VEVENT
BEGIN:VEVENT
DTSTART;TZID=America/Chicago:20230704T110000
DTEND;TZID=America/Chicago:20230704T130000
DTSTAMP:20260421T094044
CREATED:20230606T233638Z
LAST-MODIFIED:20230606T233638Z
UID:1953-1688468400-1688475600@northside-ag.org
SUMMARY:July 4th Extravaganza
DESCRIPTION:  \nJoin the NorthSide family for our annual 4th of July Celebration! Remember to invite a friend! \nContact the church office for more information.
URL:https://northside-ag.org/event/july-4th-extravaganza/
CATEGORIES:Family Events,Men's Ministry,Outreach Event,Women's Ministry,Youth Ministry
ORGANIZER;CN="Barbara Ferguson":MAILTO:barbara@northside-ag.org
END:VEVENT
BEGIN:VEVENT
DTSTART;TZID=America/Chicago:20230702T090000
DTEND;TZID=America/Chicago:20230702T093000
DTSTAMP:20260421T094044
CREATED:20230629T025246Z
LAST-MODIFIED:20230629T025246Z
UID:1975-1688288400-1688290200@northside-ag.org
SUMMARY:Sausage and Biscuits
DESCRIPTION: Order your Sausage Biscuit in advance by contacting Barbara at the office. \nYou’ll pay when you pick it up. Enjoy!!
URL:https://northside-ag.org/event/sausage-and-biscuits/
LOCATION:Northside Fellowship Hall
CATEGORIES:Church Service
END:VEVENT
BEGIN:VEVENT
DTSTART;TZID=America/Chicago:20230628T190000
DTEND;TZID=America/Chicago:20230628T200000
DTSTAMP:20260421T094044
CREATED:20230531T183805Z
LAST-MODIFIED:20230531T184012Z
UID:1932-1687978800-1687982400@northside-ag.org
SUMMARY:Wednesday Night Prayer
DESCRIPTION:Childcare provided.
URL:https://northside-ag.org/event/wednesday-night-prayer-7/
LOCATION:Sanctuary
CATEGORIES:Church Service
END:VEVENT
BEGIN:VEVENT
DTSTART;TZID=America/Chicago:20230622T130000
DTEND;TZID=America/Chicago:20230622T180000
DTSTAMP:20260421T094044
CREATED:20230510T174038Z
LAST-MODIFIED:20230510T183841Z
UID:1865-1687438800-1687456800@northside-ag.org
SUMMARY:Quilting and Crafting
DESCRIPTION:Ladies\, join us in the fellowship hall! Contact Jere’ for more information!
URL:https://northside-ag.org/event/quilting-and-crafting-3/
LOCATION:Northside Fellowship Hall
CATEGORIES:Women's Ministry
END:VEVENT
BEGIN:VEVENT
DTSTART;TZID=America/Chicago:20230621T190000
DTEND;TZID=America/Chicago:20230621T200000
DTSTAMP:20260421T094044
CREATED:20230531T183455Z
LAST-MODIFIED:20230531T183541Z
UID:1930-1687374000-1687377600@northside-ag.org
SUMMARY:Wednesday Night Prayer
DESCRIPTION:Childcare provided.
URL:https://northside-ag.org/event/wednesday-night-prayer-6/
LOCATION:Sanctuary
CATEGORIES:Church Service
END:VEVENT
BEGIN:VEVENT
DTSTART;TZID=America/Chicago:20230618T090000
DTEND;TZID=America/Chicago:20230618T100000
DTSTAMP:20260421T094044
CREATED:20230510T131150Z
LAST-MODIFIED:20230510T183746Z
UID:1838-1687078800-1687082400@northside-ag.org
SUMMARY:Sausage and Biscuits for Sunday School
DESCRIPTION:Order your Sausage Biscuit in advance by contacting Barbara at the office. You’ll pay when you pick it up. Enjoy!!
URL:https://northside-ag.org/event/sausage-and-biscuits-for-sunday-school/
LOCATION:Northside Fellowship Hall
CATEGORIES:Church Service
ORGANIZER;CN="Barbara Ferguson":MAILTO:barbara@northside-ag.org
END:VEVENT
BEGIN:VEVENT
DTSTART;TZID=America/Chicago:20230615T080000
DTEND;TZID=America/Chicago:20230615T180000
DTSTAMP:20260421T094044
CREATED:20230510T173858Z
LAST-MODIFIED:20230510T183705Z
UID:1863-1686816000-1686852000@northside-ag.org
SUMMARY:Quilting and Crafting
DESCRIPTION:Ladies\, join us in the fellowship hall! Contact Jere’ for more information!
URL:https://northside-ag.org/event/quilting-and-crafting-2/
LOCATION:Northside Fellowship Hall
CATEGORIES:Women's Ministry
END:VEVENT
BEGIN:VEVENT
DTSTART;TZID=America/Chicago:20230614T190000
DTEND;TZID=America/Chicago:20230614T200000
DTSTAMP:20260421T094044
CREATED:20230531T183140Z
LAST-MODIFIED:20230531T183140Z
UID:1928-1686769200-1686772800@northside-ag.org
SUMMARY:Wednesday Night Prayer
DESCRIPTION:Childcare provided.
URL:https://northside-ag.org/event/wednesday-night-prayer-5/
LOCATION:Sanctuary
CATEGORIES:Church Service
END:VEVENT
BEGIN:VEVENT
DTSTART;TZID=America/Chicago:20230613T183000
DTEND;TZID=America/Chicago:20230613T193000
DTSTAMP:20260421T094044
CREATED:20230509T174912Z
LAST-MODIFIED:20230510T183552Z
UID:1814-1686681000-1686684600@northside-ag.org
SUMMARY:Men's Hot Topic
DESCRIPTION:Discussion topic TBA
URL:https://northside-ag.org/event/mens-hot-topic/
LOCATION:Northside Fellowship Hall
CATEGORIES:Men's Ministry
END:VEVENT
BEGIN:VEVENT
DTSTART;TZID=America/Chicago:20230609T183000
DTEND;TZID=America/Chicago:20230609T210000
DTSTAMP:20260421T094044
CREATED:20230507T024749Z
LAST-MODIFIED:20230510T183441Z
UID:1732-1686335400-1686344400@northside-ag.org
SUMMARY:Ladies Banquet 2023
DESCRIPTION: 
URL:https://northside-ag.org/event/ladies-banquet-2023/
LOCATION:Northside Fellowship Hall
CATEGORIES:Women's Ministry
ORGANIZER;CN="Barbara Ferguson":MAILTO:barbara@northside-ag.org
END:VEVENT
END:VCALENDAR