BEGIN:VCALENDAR
VERSION:2.0
PRODID:-//NorthSide Assembly of God - ECPv6.2.9//NONSGML v1.0//EN
CALSCALE:GREGORIAN
METHOD:PUBLISH
X-WR-CALNAME:NorthSide Assembly of God
X-ORIGINAL-URL:https://northside-ag.org
X-WR-CALDESC:Events for NorthSide Assembly of God
REFRESH-INTERVAL;VALUE=DURATION:PT1H
X-Robots-Tag:noindex
X-PUBLISHED-TTL:PT1H
BEGIN:VTIMEZONE
TZID:America/Chicago
BEGIN:DAYLIGHT
TZOFFSETFROM:-0600
TZOFFSETTO:-0500
TZNAME:CDT
DTSTART:20230312T080000
END:DAYLIGHT
BEGIN:STANDARD
TZOFFSETFROM:-0500
TZOFFSETTO:-0600
TZNAME:CST
DTSTART:20231105T070000
END:STANDARD
END:VTIMEZONE
BEGIN:VEVENT
DTSTART;TZID=America/Chicago:20230607T190000
DTEND;TZID=America/Chicago:20230607T200000
DTSTAMP:20260421T005110
CREATED:20230531T182852Z
LAST-MODIFIED:20230531T182852Z
UID:1926-1686164400-1686168000@northside-ag.org
SUMMARY:Wednesday Night Prayer
DESCRIPTION:  \n \nChildcare provided.
URL:https://northside-ag.org/event/wednesday-night-prayer-4/
LOCATION:Sanctuary
CATEGORIES:Church Service
END:VEVENT
BEGIN:VEVENT
DTSTART;TZID=America/Chicago:20230604T090000
DTEND;TZID=America/Chicago:20230604T100000
DTSTAMP:20260421T005110
CREATED:20230510T023642Z
LAST-MODIFIED:20230510T183115Z
UID:1826-1685869200-1685872800@northside-ag.org
SUMMARY:Sausage Biscuits for Sunday School
DESCRIPTION:Order your Sausage Biscuit in advance by contacting Barbara at the office. You’ll pay when you pick it up. Enjoy!!
URL:https://northside-ag.org/event/sausage-biscuits-for-sunday-school-2/
LOCATION:Northside Fellowship Hall
CATEGORIES:Church Service
ORGANIZER;CN="Barbara Ferguson":MAILTO:barbara@northside-ag.org
END:VEVENT
BEGIN:VEVENT
DTSTART;TZID=America/Chicago:20230531T180000
DTEND;TZID=America/Chicago:20230531T193000
DTSTAMP:20260421T005110
CREATED:20230507T202710Z
LAST-MODIFIED:20230510T174357Z
UID:1778-1685556000-1685561400@northside-ag.org
SUMMARY:X5 (Youth Event)
DESCRIPTION:Every 5th Wednesday of the Month\, we have a different and exciting service planned! \nThis month\, we’re meeting at Ocean Springs Beach (Near Fort Maurepas) at 6pm. \nInvite your Friends!
URL:https://northside-ag.org/event/experience-the-5th-youth/
LOCATION:Front Beach\, Ocean Springs (in front of Fort Maurepas)\, 499 Front Beach Dr\, Ocean Springs\, MS\, 39564\, United States
CATEGORIES:Youth Ministry
END:VEVENT
BEGIN:VEVENT
DTSTART;TZID=America/Chicago:20230529T080000
DTEND;TZID=America/Chicago:20230529T170000
DTSTAMP:20260421T005110
CREATED:20230508T225855Z
LAST-MODIFIED:20230510T182947Z
UID:1796-1685347200-1685379600@northside-ag.org
SUMMARY:Office Closed
DESCRIPTION:Our Church office is closed in remembrance of Memorial Day. We will reopen on Tuesday morning.
URL:https://northside-ag.org/event/office-closed/
END:VEVENT
BEGIN:VEVENT
DTSTART;TZID=America/Chicago:20230528T170000
DTEND;TZID=America/Chicago:20230528T210000
DTSTAMP:20260421T005110
CREATED:20230507T193844Z
LAST-MODIFIED:20230510T182827Z
UID:1774-1685293200-1685307600@northside-ag.org
SUMMARY:Shuckers Baseball Game
DESCRIPTION:WCYM is sponsoring a trip to the ballpark! \nTickets are only $15 for Dugout Box Seats. This is event open to anyone. \nPlease sign up at the Connection Point in the lobby. See Pastor Jose for ticket information.
URL:https://northside-ag.org/event/shuckers-baseball-game/
LOCATION:MGM Park\, 105 Caillavet St\, Biloxi\, MS\, 39530\, United States
CATEGORIES:Family Events,Youth Ministry
END:VEVENT
BEGIN:VEVENT
DTSTART;TZID=America/Chicago:20230527T140000
DTEND;TZID=America/Chicago:20230527T160000
DTSTAMP:20260421T005110
CREATED:20230507T192618Z
LAST-MODIFIED:20230510T182730Z
UID:1768-1685196000-1685203200@northside-ag.org
SUMMARY:Family Beach Day
DESCRIPTION: 
URL:https://northside-ag.org/event/family-beach-day/
LOCATION:Front Beach\, Ocean Springs (in front of Fort Maurepas)\, 499 Front Beach Dr\, Ocean Springs\, MS\, 39564\, United States
CATEGORIES:Family Events
ORGANIZER;CN="Andrea Dickerson":MAILTO:catblandino@gmail.com
END:VEVENT
BEGIN:VEVENT
DTSTART;TZID=America/Chicago:20230525T130000
DTEND;TZID=America/Chicago:20230525T180000
DTSTAMP:20260421T005110
CREATED:20230510T173531Z
LAST-MODIFIED:20230510T182603Z
UID:1857-1685019600-1685037600@northside-ag.org
SUMMARY:Quilting and Crafting
DESCRIPTION:Ladies\, join us in the fellowship hall! Contact Jere’ for more information!
URL:https://northside-ag.org/event/quilting-and-crafts-3/
LOCATION:Northside Fellowship Hall
CATEGORIES:Women's Ministry
END:VEVENT
BEGIN:VEVENT
DTSTART;TZID=America/Chicago:20230524T190000
DTEND;TZID=America/Chicago:20230524T200000
DTSTAMP:20260421T005110
CREATED:20230507T032707Z
LAST-MODIFIED:20230507T194310Z
UID:1745-1684954800-1684958400@northside-ag.org
SUMMARY:Wednesday Night Prayer
DESCRIPTION:Children’s Church and Nursery provided at 7pm.
URL:https://northside-ag.org/event/wednesday-night-prayer-3/
LOCATION:Sanctuary
CATEGORIES:Church Service
END:VEVENT
BEGIN:VEVENT
DTSTART;TZID=America/Chicago:20230521T090000
DTEND;TZID=America/Chicago:20230521T100000
DTSTAMP:20260421T005110
CREATED:20230510T023412Z
LAST-MODIFIED:20230510T181541Z
UID:1818-1684659600-1684663200@northside-ag.org
SUMMARY:Sausage Biscuits for Sunday School
DESCRIPTION:  \nOrder your Sausage Biscuit in advance by contacting Barbara at the office. You’ll pay when you pick it up. Enjoy!!
URL:https://northside-ag.org/event/sausage-biscuits-for-sunday-school/
LOCATION:Northside Fellowship Hall
CATEGORIES:Church Service
ORGANIZER;CN="Barbara Ferguson":MAILTO:barbara@northside-ag.org
END:VEVENT
BEGIN:VEVENT
DTSTART;TZID=America/Chicago:20230518T130000
DTEND;TZID=America/Chicago:20230518T180000
DTSTAMP:20260421T005110
CREATED:20230510T173424Z
LAST-MODIFIED:20230510T182425Z
UID:1855-1684414800-1684432800@northside-ag.org
SUMMARY:Quilting and Crafting
DESCRIPTION:Ladies\, join us in the fellowship hall! Contact Jere’ for more information!
URL:https://northside-ag.org/event/quilting-and-crafts-2/
LOCATION:Northside Fellowship Hall
CATEGORIES:Women's Ministry
END:VEVENT
BEGIN:VEVENT
DTSTART;TZID=America/Chicago:20230517T190000
DTEND;TZID=America/Chicago:20230517T200000
DTSTAMP:20260421T005110
CREATED:20230507T032356Z
LAST-MODIFIED:20230507T194347Z
UID:1750-1684350000-1684353600@northside-ag.org
SUMMARY:Wednesday Night Prayer
DESCRIPTION:Children’s Classes and Nursery provided at 7pm.
URL:https://northside-ag.org/event/wednesday-night-prayer-2/
LOCATION:Sanctuary
CATEGORIES:Church Service
END:VEVENT
BEGIN:VEVENT
DTSTART;TZID=America/Chicago:20230512T170000
DTEND;TZID=America/Chicago:20230512T200000
DTSTAMP:20260421T005110
CREATED:20230507T030113Z
LAST-MODIFIED:20230507T192051Z
UID:1734-1683910800-1683921600@northside-ag.org
SUMMARY:Youth Game Night
DESCRIPTION:Everyone in grades 6-12 is invited to come to Northside for a game night\, which will include Gaga Ball\, Ping Pong\, Air hockey\, and other games. \nInvite your friends\, and come enjoy a night of hanging out! \nThis is FREE; however\, THE LOUNGE CAFE will be open for purchasing snacks and drinks.
URL:https://northside-ag.org/event/youth-movie-and-game-night/
LOCATION:Multipurpose Building
CATEGORIES:Youth Ministry
END:VEVENT
BEGIN:VEVENT
DTSTART;TZID=America/Chicago:20230511T130000
DTEND;TZID=America/Chicago:20230511T180000
DTSTAMP:20260421T005110
CREATED:20230510T172959Z
LAST-MODIFIED:20230510T182456Z
UID:1849-1683810000-1683828000@northside-ag.org
SUMMARY:Quilting and Crafting
DESCRIPTION:Ladies\, join us in the fellowship hall! Contact Jere’ for more information!
URL:https://northside-ag.org/event/quilting-and-crafts/
LOCATION:Northside Fellowship Hall
CATEGORIES:Women's Ministry
END:VEVENT
BEGIN:VEVENT
DTSTART;TZID=America/Chicago:20230510T190000
DTEND;TZID=America/Chicago:20230510T200000
DTSTAMP:20260421T005110
CREATED:20230507T032035Z
LAST-MODIFIED:20230507T032035Z
UID:1748-1683745200-1683748800@northside-ag.org
SUMMARY:Wednesday Night Prayer
DESCRIPTION:Children’s Classes and Nursery provided at 7pm.
URL:https://northside-ag.org/event/wednesday-night-prayer/
LOCATION:Sanctuary
CATEGORIES:Church Service
END:VEVENT
BEGIN:VEVENT
DTSTART;TZID=America/Chicago:20230509T183000
DTEND;TZID=America/Chicago:20230509T193000
DTSTAMP:20260421T005110
CREATED:20230507T020714Z
LAST-MODIFIED:20230507T023736Z
UID:1721-1683657000-1683660600@northside-ag.org
SUMMARY:Men's Hot Topics
DESCRIPTION:
URL:https://northside-ag.org/event/mens-hot-topics/
LOCATION:Northside Fellowship Hall
CATEGORIES:Men's Ministry
END:VEVENT
END:VCALENDAR