BEGIN:VCALENDAR
VERSION:2.0
PRODID:-//NorthSide Assembly of God - ECPv6.2.9//NONSGML v1.0//EN
CALSCALE:GREGORIAN
METHOD:PUBLISH
X-WR-CALNAME:NorthSide Assembly of God
X-ORIGINAL-URL:https://northside-ag.org
X-WR-CALDESC:Events for NorthSide Assembly of God
REFRESH-INTERVAL;VALUE=DURATION:PT1H
X-Robots-Tag:noindex
X-PUBLISHED-TTL:PT1H
BEGIN:VTIMEZONE
TZID:America/Chicago
BEGIN:DAYLIGHT
TZOFFSETFROM:-0600
TZOFFSETTO:-0500
TZNAME:CDT
DTSTART:20240310T080000
END:DAYLIGHT
BEGIN:STANDARD
TZOFFSETFROM:-0500
TZOFFSETTO:-0600
TZNAME:CST
DTSTART:20241103T070000
END:STANDARD
BEGIN:DAYLIGHT
TZOFFSETFROM:-0600
TZOFFSETTO:-0500
TZNAME:CDT
DTSTART:20250309T080000
END:DAYLIGHT
BEGIN:STANDARD
TZOFFSETFROM:-0500
TZOFFSETTO:-0600
TZNAME:CST
DTSTART:20251102T070000
END:STANDARD
END:VTIMEZONE
BEGIN:VEVENT
DTSTART;TZID=America/Chicago:20250326T080000
DTEND;TZID=America/Chicago:20250326T170000
DTSTAMP:20260420T121211
CREATED:20250113T155025Z
LAST-MODIFIED:20250113T155025Z
UID:2631-1742976000-1743008400@northside-ag.org
SUMMARY:Wednesday Night Prayer
DESCRIPTION:Join us for Corporate Prayer from 7PM to 8PM. \nWe have classes for all ages at 7PM. (Youth meets at 6PM) \nFor more info about Wednesday Nights\, click here
URL:https://northside-ag.org/event/wednesday-night-prayer-37/
LOCATION:Sanctuary
END:VEVENT
BEGIN:VEVENT
DTSTART;TZID=America/Chicago:20250322T120000
DTEND;TZID=America/Chicago:20250322T130000
DTSTAMP:20260420T121211
CREATED:20250212T185029Z
LAST-MODIFIED:20250212T185029Z
UID:2636-1742644800-1742648400@northside-ag.org
SUMMARY:Ladies Hot Topics
DESCRIPTION:Hey Ladies! We have the best discussions. Grab lunch and Join in the conversation! \n12pm Noon- in the Fellowship Hall
URL:https://northside-ag.org/event/ladies-hot-topics-2/
LOCATION:Northside Fellowship Hall
CATEGORIES:Women's Ministry
END:VEVENT
BEGIN:VEVENT
DTSTART;TZID=America/Chicago:20250319T190000
DTEND;TZID=America/Chicago:20250319T200000
DTSTAMP:20260420T121211
CREATED:20250113T154944Z
LAST-MODIFIED:20250113T154944Z
UID:2629-1742410800-1742414400@northside-ag.org
SUMMARY:Wednesday Night Prayer
DESCRIPTION:Join us for Corporate Prayer from 7PM to 8PM. \nWe have classes for all ages at 7PM. (Youth meets at 6PM) \nFor more info about Wednesday Nights\, click here
URL:https://northside-ag.org/event/wednesday-night-prayer-36/
LOCATION:Sanctuary
END:VEVENT
BEGIN:VEVENT
DTSTART;TZID=America/Chicago:20250316T090000
DTEND;TZID=America/Chicago:20250316T100000
DTSTAMP:20260420T121211
CREATED:20250113T152551Z
LAST-MODIFIED:20250113T152551Z
UID:2598-1742115600-1742119200@northside-ag.org
SUMMARY:Sausage Biscuits for Sunday School
DESCRIPTION:We have Sausage Biscuits for Sunday School! Order from Barbara (church office) in advance\, and pay when you pick them up in the fellowship hall. Biscuits are $2 each or 2 for $3!
URL:https://northside-ag.org/event/sausage-biscuits-for-sunday-school-30/
LOCATION:Northside Fellowship Hall
ORGANIZER;CN="Barbara Ferguson":MAILTO:barbara@northside-ag.org
END:VEVENT
BEGIN:VEVENT
DTSTART;TZID=America/Chicago:20250315T110000
DTEND;TZID=America/Chicago:20250315T140000
DTSTAMP:20260420T121211
CREATED:20250212T190429Z
LAST-MODIFIED:20250212T194336Z
UID:2647-1742036400-1742047200@northside-ag.org
SUMMARY:Ladies Escape Room Outing
DESCRIPTION:Join your favorite people for an escape room adventure! More details coming soon.
URL:https://northside-ag.org/event/ladies-escape-room-outing/
END:VEVENT
BEGIN:VEVENT
DTSTART;TZID=America/Chicago:20250312T190000
DTEND;TZID=America/Chicago:20250312T200000
DTSTAMP:20260420T121211
CREATED:20250113T154851Z
LAST-MODIFIED:20250113T154851Z
UID:2627-1741806000-1741809600@northside-ag.org
SUMMARY:Wednesday Night Prayer
DESCRIPTION:Join us for Corporate Prayer from 7PM to 8PM. \nWe have classes for all ages at 7PM. (Youth meets at 6PM) \nFor more info about Wednesday Nights\, click here
URL:https://northside-ag.org/event/wednesday-night-prayer-35/
LOCATION:Sanctuary
END:VEVENT
BEGIN:VEVENT
DTSTART;TZID=America/Chicago:20250312T190000
DTEND;TZID=America/Chicago:20250312T200000
DTSTAMP:20260420T121211
CREATED:20250113T154216Z
LAST-MODIFIED:20250113T154328Z
UID:2616-1741806000-1741809600@northside-ag.org
SUMMARY:Wednesday Night Prayer
DESCRIPTION:Join us for Corporate Prayer from 7PM to 8PM. \nWe have classes for all ages at 7PM. (Youth meets at 6PM) \nFor more info about Wednesday Nights\, click here
URL:https://northside-ag.org/event/wednesday-night-prayer-30/
LOCATION:Sanctuary
CATEGORIES:Children's Ministry,Church Service,Youth Ministry
END:VEVENT
BEGIN:VEVENT
DTSTART;TZID=America/Chicago:20250311T183000
DTEND;TZID=America/Chicago:20250311T200000
DTSTAMP:20260420T121211
CREATED:20250113T153829Z
LAST-MODIFIED:20250113T153829Z
UID:2611-1741717800-1741723200@northside-ag.org
SUMMARY:Men's Hot Topic
DESCRIPTION:Join us for a great conversation! Grab some food and join us in the Fellowship Hall at 6:30!
URL:https://northside-ag.org/event/mens-hot-topic-20/
LOCATION:Northside Fellowship Hall
CATEGORIES:Men's Ministry
END:VEVENT
BEGIN:VEVENT
DTSTART;TZID=America/Chicago:20250305T190000
DTEND;TZID=America/Chicago:20250305T200000
DTSTAMP:20260420T121211
CREATED:20250113T154743Z
LAST-MODIFIED:20250113T154743Z
UID:2625-1741201200-1741204800@northside-ag.org
SUMMARY:Wednesday Night Prayer
DESCRIPTION:Join us for Corporate Prayer from 7PM to 8PM. \nWe have classes for all ages at 7PM. (Youth meets at 6PM) \nFor more info about Wednesday Nights\, click here
URL:https://northside-ag.org/event/wednesday-night-prayer-34/
LOCATION:Sanctuary
END:VEVENT
BEGIN:VEVENT
DTSTART;TZID=America/Chicago:20250302T090000
DTEND;TZID=America/Chicago:20250302T140000
DTSTAMP:20260420T121211
CREATED:20250212T190140Z
LAST-MODIFIED:20250212T190140Z
UID:2645-1740906000-1740924000@northside-ag.org
SUMMARY:Mardi Gras Outreach
DESCRIPTION:Join the church family as we reach our community during the North Bay Parade. \nThere are sign up sheets at the Connection Desk. For more info\, see Pastor Jose’. \n 
URL:https://northside-ag.org/event/mardi-gras-outreach/
END:VEVENT
BEGIN:VEVENT
DTSTART;TZID=America/Chicago:20250226T190000
DTEND;TZID=America/Chicago:20250226T200000
DTSTAMP:20260420T121211
CREATED:20250113T154644Z
LAST-MODIFIED:20250113T154644Z
UID:2623-1740596400-1740600000@northside-ag.org
SUMMARY:Wednesday Night Prayer
DESCRIPTION:Join us for Corporate Prayer from 7PM to 8PM. \nWe have classes for all ages at 7PM. (Youth meets at 6PM) \nFor more info about Wednesday Nights\, click here
URL:https://northside-ag.org/event/wednesday-night-prayer-33/
LOCATION:Sanctuary
END:VEVENT
BEGIN:VEVENT
DTSTART;TZID=America/Chicago:20250226T190000
DTEND;TZID=America/Chicago:20250226T200000
DTSTAMP:20260420T121211
CREATED:20250113T154551Z
LAST-MODIFIED:20250113T154551Z
UID:2621-1740596400-1740600000@northside-ag.org
SUMMARY:Wednesday Night Prayer
DESCRIPTION:Join us for Corporate Prayer from 7PM to 8PM. \nWe have classes for all ages at 7PM. (Youth meets at 6PM) \nFor more info about Wednesday Nights\, click here
URL:https://northside-ag.org/event/wednesday-night-prayer-32/
LOCATION:Sanctuary
END:VEVENT
BEGIN:VEVENT
DTSTART;TZID=America/Chicago:20250222T100000
DTEND;TZID=America/Chicago:20250222T113000
DTSTAMP:20260420T121211
CREATED:20250212T185349Z
LAST-MODIFIED:20250212T185810Z
UID:2639-1740218400-1740223800@northside-ag.org
SUMMARY:Ladies Brunch
DESCRIPTION:Ladies! Join us for brunch in the Fellowship Hall. We’ll have a message from Sister Rome. \nWe ask that each lady bring a salad! yum!
URL:https://northside-ag.org/event/ladies-brunch-3/
LOCATION:Northside Fellowship Hall
CATEGORIES:Women's Ministry
ORGANIZER;CN="Barbara Ferguson":MAILTO:barbara@northside-ag.org
END:VEVENT
BEGIN:VEVENT
DTSTART;TZID=America/Chicago:20250220T180000
DTEND;TZID=America/Chicago:20250220T193000
DTSTAMP:20260420T121211
CREATED:20250212T184805Z
LAST-MODIFIED:20250212T185124Z
UID:2634-1740074400-1740079800@northside-ag.org
SUMMARY:Ol' Codgers Dinner
DESCRIPTION:We are meeting at 6pm at Sicily’s! in D’Iberville.
URL:https://northside-ag.org/event/ol-codgers-dinner/
END:VEVENT
BEGIN:VEVENT
DTSTART;TZID=America/Chicago:20250219T190000
DTEND;TZID=America/Chicago:20250219T200000
DTSTAMP:20260420T121211
CREATED:20250212T185639Z
LAST-MODIFIED:20250212T185639Z
UID:2641-1739991600-1739995200@northside-ag.org
SUMMARY:Annual Church Business Meeting
DESCRIPTION:Join us in the Sanctuary. All members are encouraged to attend this special meeting. \nThere will be NO nursery\, Children’s Church\, or Youth Group.
URL:https://northside-ag.org/event/annual-church-business-meeting/
LOCATION:Sanctuary
END:VEVENT
BEGIN:VEVENT
DTSTART;TZID=America/Chicago:20250216T090000
DTEND;TZID=America/Chicago:20250216T100000
DTSTAMP:20260420T121211
CREATED:20250113T152240Z
LAST-MODIFIED:20250113T152240Z
UID:2594-1739696400-1739700000@northside-ag.org
SUMMARY:Sausage Biscuits for Sunday School
DESCRIPTION:We have Sausage Biscuits for Sunday School! Order from Barbara (church office) in advance\, and pay when you pick them up in the fellowship hall. Biscuits are $2 each or 2 for $3!
URL:https://northside-ag.org/event/sausage-biscuits-for-sunday-school-28/
LOCATION:Northside Fellowship Hall
ORGANIZER;CN="Barbara Ferguson":MAILTO:barbara@northside-ag.org
END:VEVENT
BEGIN:VEVENT
DTSTART;TZID=America/Chicago:20250211T183000
DTEND;TZID=America/Chicago:20250211T200000
DTSTAMP:20260420T121211
CREATED:20250113T153649Z
LAST-MODIFIED:20250113T153649Z
UID:2608-1739298600-1739304000@northside-ag.org
SUMMARY:Men's Hot Topic
DESCRIPTION:Join us for a great conversation! Grab some food and join us in the Fellowship Hall at 6:30!
URL:https://northside-ag.org/event/mens-hot-topic-19/
LOCATION:Northside Fellowship Hall
CATEGORIES:Men's Ministry
END:VEVENT
BEGIN:VEVENT
DTSTART;TZID=America/Chicago:20250205T190000
DTEND;TZID=America/Chicago:20250205T200000
DTSTAMP:20260420T121211
CREATED:20250113T154101Z
LAST-MODIFIED:20250113T154101Z
UID:2614-1738782000-1738785600@northside-ag.org
SUMMARY:Wednesday Night Prayer
DESCRIPTION:Join us for Corporate Prayer from 7PM to 8PM. \nWe have classes for all ages at 7PM. (Youth meets at 6PM) \nFor more info about Wednesday Nights\, click here
URL:https://northside-ag.org/event/wednesday-night-prayer-25/
LOCATION:Sanctuary
CATEGORIES:Children's Ministry,Church Service,Youth Ministry
END:VEVENT
BEGIN:VEVENT
DTSTART;TZID=America/Chicago:20250202T090000
DTEND;TZID=America/Chicago:20250202T100000
DTSTAMP:20260420T121211
CREATED:20250113T152109Z
LAST-MODIFIED:20250113T152109Z
UID:2592-1738486800-1738490400@northside-ag.org
SUMMARY:Sausage Biscuits for Sunday School
DESCRIPTION:We have Sausage Biscuits for Sunday School! Order from Barbara (church office) in advance\, and pay when you pick them up in the fellowship hall. Biscuits are $2 each or 2 for $3!
URL:https://northside-ag.org/event/sausage-biscuits-for-sunday-school-27/
LOCATION:Northside Fellowship Hall
ORGANIZER;CN="Barbara Ferguson":MAILTO:barbara@northside-ag.org
END:VEVENT
BEGIN:VEVENT
DTSTART;TZID=America/Chicago:20250129T190000
DTEND;TZID=America/Chicago:20250129T200000
DTSTAMP:20260420T121211
CREATED:20241210T203240Z
LAST-MODIFIED:20241210T203240Z
UID:2571-1738177200-1738180800@northside-ag.org
SUMMARY:Wednesday Night Prayer
DESCRIPTION:Join us for Corporate Prayer from 7PM to 8PM. \nWe have classes for all ages at 7PM. (Youth meets at 6PM) \nFor more info about Wednesday Nights\, click here
URL:https://northside-ag.org/event/wednesday-night-prayer-29/
LOCATION:Sanctuary
CATEGORIES:Children's Ministry,Church Service,Youth Ministry
END:VEVENT
BEGIN:VEVENT
DTSTART;TZID=America/Chicago:20250122T190000
DTEND;TZID=America/Chicago:20250122T200000
DTSTAMP:20260420T121211
CREATED:20241210T203130Z
LAST-MODIFIED:20241210T203130Z
UID:2569-1737572400-1737576000@northside-ag.org
SUMMARY:Wednesday Night Prayer
DESCRIPTION:Join us for Corporate Prayer from 7PM to 8PM. \nWe have classes for all ages at 7PM. (Youth meets at 6PM) \nFor more info about Wednesday Nights\, click here
URL:https://northside-ag.org/event/wednesday-night-prayer-28/
LOCATION:Sanctuary
CATEGORIES:Children's Ministry,Church Service,Youth Ministry
END:VEVENT
BEGIN:VEVENT
DTSTART;TZID=America/Chicago:20250119T090000
DTEND;TZID=America/Chicago:20250119T100000
DTSTAMP:20260420T121211
CREATED:20250113T151936Z
LAST-MODIFIED:20250113T151936Z
UID:2590-1737277200-1737280800@northside-ag.org
SUMMARY:Sausage Biscuit for Sunday School
DESCRIPTION:We have Sausage Biscuits for Sunday School! Order from Barbara (church office) in advance\, and pay when you pick them up in the fellowship hall. Biscuits are $2 each or 2 for $3!
URL:https://northside-ag.org/event/sausage-biscuit-for-sunday-school/
LOCATION:Northside Fellowship Hall
ORGANIZER;CN="Barbara Ferguson":MAILTO:barbara@northside-ag.org
END:VEVENT
BEGIN:VEVENT
DTSTART;TZID=America/Chicago:20250115T190000
DTEND;TZID=America/Chicago:20250115T200000
DTSTAMP:20260420T121211
CREATED:20241210T203026Z
LAST-MODIFIED:20241210T203026Z
UID:2567-1736967600-1736971200@northside-ag.org
SUMMARY:Wednesday Night Prayer
DESCRIPTION:Join us for Corporate Prayer from 7PM to 8PM. \nWe have classes for all ages at 7PM. (Youth meets at 6PM) \nFor more info about Wednesday Nights\, click here
URL:https://northside-ag.org/event/wednesday-night-prayer-27/
LOCATION:Sanctuary
CATEGORIES:Children's Ministry,Church Service,Youth Ministry
END:VEVENT
BEGIN:VEVENT
DTSTART;TZID=America/Chicago:20250114T183000
DTEND;TZID=America/Chicago:20250114T200000
DTSTAMP:20260420T121211
CREATED:20250113T153523Z
LAST-MODIFIED:20250113T153523Z
UID:2604-1736879400-1736884800@northside-ag.org
SUMMARY:Men's Hot Topic
DESCRIPTION:Join us for a great conversation! Grab some food and join us in the Fellowship Hall at 6:30!
URL:https://northside-ag.org/event/mens-hot-topic-18/
LOCATION:Northside Fellowship Hall
CATEGORIES:Men's Ministry
END:VEVENT
BEGIN:VEVENT
DTSTART;TZID=America/Chicago:20250108T183000
DTEND;TZID=America/Chicago:20250108T200000
DTSTAMP:20260420T121211
CREATED:20241210T203930Z
LAST-MODIFIED:20241210T203930Z
UID:2575-1736361000-1736366400@northside-ag.org
SUMMARY:Men's Hot Topic
DESCRIPTION:All men are invited to the conversation! \nGrab some food on the way and meet in the Fellowship Hall.
URL:https://northside-ag.org/event/mens-hot-topic-17/
LOCATION:Northside Fellowship Hall
CATEGORIES:Men's Ministry
END:VEVENT
BEGIN:VEVENT
DTSTART;TZID=America/Chicago:20250108T080000
DTEND;TZID=America/Chicago:20250108T170000
DTSTAMP:20260420T121211
CREATED:20241210T202920Z
LAST-MODIFIED:20241210T202920Z
UID:2565-1736323200-1736355600@northside-ag.org
SUMMARY:Wednesday Night Prayer
DESCRIPTION:Join us for Corporate Prayer from 7PM to 8PM. \nWe have classes for all ages at 7PM. (Youth meets at 6PM) \nFor more info about Wednesday Nights\, click here
URL:https://northside-ag.org/event/wednesday-night-prayer-26/
LOCATION:Sanctuary
CATEGORIES:Children's Ministry,Church Service,Youth Ministry
END:VEVENT
BEGIN:VEVENT
DTSTART;TZID=America/Chicago:20241231T183000
DTEND;TZID=America/Chicago:20241231T200000
DTSTAMP:20260420T121211
CREATED:20240113T140552Z
LAST-MODIFIED:20240113T140552Z
UID:2309-1735669800-1735675200@northside-ag.org
SUMMARY:Come and Go Communion
DESCRIPTION:Join Pastor Jeff and Sister Donna for Communion.\nCome and Go between 6:30-8pm.
URL:https://northside-ag.org/event/come-and-go-communion-2/
LOCATION:Sanctuary
CATEGORIES:Church Service,Family Events
END:VEVENT
BEGIN:VEVENT
DTSTART;TZID=America/Chicago:20241220T180000
DTEND;TZID=America/Chicago:20241220T200000
DTSTAMP:20260420T121211
CREATED:20241210T203612Z
LAST-MODIFIED:20241210T203612Z
UID:2573-1734717600-1734724800@northside-ag.org
SUMMARY:Youth Christmas Party
DESCRIPTION:All youth are invited to our Christmas Party! Come out for fun!\nMeet in the fellowship Hall at 6:00pm!\nSee Pastor Jose for more info!
URL:https://northside-ag.org/event/youth-christmas-party-2/
LOCATION:Northside Fellowship Hall
CATEGORIES:Youth Ministry
END:VEVENT
BEGIN:VEVENT
DTSTART;TZID=America/Chicago:20241219T180000
DTEND;TZID=America/Chicago:20241219T193000
DTSTAMP:20260420T121211
CREATED:20241210T204228Z
LAST-MODIFIED:20241210T204228Z
UID:2578-1734631200-1734636600@northside-ag.org
SUMMARY:Ol Codger's Night Out
DESCRIPTION:We will be meeting at New Orlean’s Cafe in D’Iberville.\nThursday\, December 19th\n6:00PM
URL:https://northside-ag.org/event/ol-codgers-night-out-2/
LOCATION:New Orleans Cafe\, 11014 Lamey Bridge Rd\, D'Iberville\, MS\, 39540\, United States
CATEGORIES:Men's Ministry
END:VEVENT
BEGIN:VEVENT
DTSTART;TZID=America/Chicago:20241215T170000
DTEND;TZID=America/Chicago:20241215T190000
DTSTAMP:20260420T121211
CREATED:20241030T230446Z
LAST-MODIFIED:20241210T212544Z
UID:2540-1734282000-1734289200@northside-ag.org
SUMMARY:Christmas Cookie Decorating
DESCRIPTION:Hey NorthSide Families! Join us at the Benton’s home for our annual cookie decorating and lots of fun!\nWe will have chili and hot dogs! \nSunday\, December 15th\n5:00PM\n$5 for every 2 children\n*Contact us for directions via Facebook Messenger or call the church office.
URL:https://northside-ag.org/event/christmas-cookie-decorating/
END:VEVENT
END:VCALENDAR