BEGIN:VCALENDAR
VERSION:2.0
PRODID:-//NorthSide Assembly of God - ECPv6.2.9//NONSGML v1.0//EN
CALSCALE:GREGORIAN
METHOD:PUBLISH
X-WR-CALNAME:NorthSide Assembly of God
X-ORIGINAL-URL:https://northside-ag.org
X-WR-CALDESC:Events for NorthSide Assembly of God
REFRESH-INTERVAL;VALUE=DURATION:PT1H
X-Robots-Tag:noindex
X-PUBLISHED-TTL:PT1H
BEGIN:VTIMEZONE
TZID:America/Chicago
BEGIN:DAYLIGHT
TZOFFSETFROM:-0600
TZOFFSETTO:-0500
TZNAME:CDT
DTSTART:20240310T080000
END:DAYLIGHT
BEGIN:STANDARD
TZOFFSETFROM:-0500
TZOFFSETTO:-0600
TZNAME:CST
DTSTART:20241103T070000
END:STANDARD
END:VTIMEZONE
BEGIN:VEVENT
DTSTART;TZID=America/Chicago:20240914T110000
DTEND;TZID=America/Chicago:20240914T123000
DTSTAMP:20260420T162444
CREATED:20240902T004811Z
LAST-MODIFIED:20240902T004841Z
UID:2479-1726311600-1726317000@northside-ag.org
SUMMARY:Ladies Lunch Out
DESCRIPTION:Ladies will be meeting at Olive Garden in D’Iberville at 11:00AM. If you plan to attend\, please sign up at the Connection Table so we may know how many to set up for. \nFor more info\, contact Barbara at the Office.
URL:https://northside-ag.org/event/ladies-lunch-out/
LOCATION:Olive Garden\, 3882 Promenade Pkwy\, D'Iberville\, MS\, 39540\, United States
CATEGORIES:Women's Ministry
ORGANIZER;CN="Barbara Ferguson":MAILTO:barbara@northside-ag.org
END:VEVENT
BEGIN:VEVENT
DTSTART;TZID=America/Chicago:20240911T190000
DTEND;TZID=America/Chicago:20240911T200000
DTSTAMP:20260420T162444
CREATED:20240902T011316Z
LAST-MODIFIED:20240902T011316Z
UID:2491-1726081200-1726084800@northside-ag.org
SUMMARY:Wednesday Night Prayer
DESCRIPTION:Join us for Corporate Prayer from 7PM to 8PM. \nWe have classes for all ages at 7PM. (Youth meets at 6PM) \nFor more info about Wednesday Nights\, click here
URL:https://northside-ag.org/event/wednesday-night-prayer-13/
LOCATION:Sanctuary
CATEGORIES:Church Service,Family Events
END:VEVENT
BEGIN:VEVENT
DTSTART;TZID=America/Chicago:20240910T183000
DTEND;TZID=America/Chicago:20240910T193000
DTSTAMP:20260420T162444
CREATED:20240902T005343Z
LAST-MODIFIED:20240902T005343Z
UID:2482-1725993000-1725996600@northside-ag.org
SUMMARY:Men's Hot Topic
DESCRIPTION:The Men are meeting in the Fellowship Hall at 6:30PM. Grab dinner on the way\, and Join in on the discussion! \nContact Greg for more info: 228.424.6955
URL:https://northside-ag.org/event/mens-hot-topic-15/
LOCATION:Northside Fellowship Hall
CATEGORIES:Men's Ministry
END:VEVENT
BEGIN:VEVENT
DTSTART;TZID=America/Chicago:20240907T080000
DTEND;TZID=America/Chicago:20240907T123000
DTSTAMP:20260420T162444
CREATED:20240902T005711Z
LAST-MODIFIED:20240902T005728Z
UID:2485-1725696000-1725712200@northside-ag.org
SUMMARY:Homeless Ministry
DESCRIPTION:We will meet in the Fellowship Hall at 8:00AM to pack bags for the outreach and leave NorthSide at around 9:00AM. We will be handing out water and food bags to the homeless\, and all are invited to join in for this outreach. \nFor more info\, Contact Gina David at 228.493.3379
URL:https://northside-ag.org/event/homeless-ministry/
LOCATION:Northside Fellowship Hall
CATEGORIES:Outreach Event
END:VEVENT
BEGIN:VEVENT
DTSTART;TZID=America/Chicago:20240905T080000
DTEND;TZID=America/Chicago:20240907T170000
DTSTAMP:20260420T162444
CREATED:20240113T135939Z
LAST-MODIFIED:20240113T135939Z
UID:2303-1725523200-1725728400@northside-ag.org
SUMMARY:Ladies Gulf Shores Beach Retreat
DESCRIPTION:More info coming soon. \n$125 per person. Join in on fun and fellowship!
URL:https://northside-ag.org/event/ladies-gulf-shores-beach-retreat/
CATEGORIES:Women's Ministry
ORGANIZER;CN="Barbara Ferguson":MAILTO:barbara@northside-ag.org
END:VEVENT
BEGIN:VEVENT
DTSTART;TZID=America/Chicago:20240904T190000
DTEND;TZID=America/Chicago:20240904T200000
DTSTAMP:20260420T162444
CREATED:20240902T011201Z
LAST-MODIFIED:20240902T011201Z
UID:2489-1725476400-1725480000@northside-ag.org
SUMMARY:Wednesday Night Prayer
DESCRIPTION:Join us for Corporate Prayer from 7PM to 8PM. \nWe have classes for all ages at 7PM. (Youth meets at 6PM) \nFor more info about Wednesday Nights\, click here
URL:https://northside-ag.org/event/wednesday-night-prayer-12/
LOCATION:Sanctuary
CATEGORIES:Church Service,Family Events
END:VEVENT
BEGIN:VEVENT
DTSTART;TZID=America/Chicago:20240901T090000
DTEND;TZID=America/Chicago:20240901T100000
DTSTAMP:20260420T162444
CREATED:20240806T183146Z
LAST-MODIFIED:20240806T183146Z
UID:2443-1725181200-1725184800@northside-ag.org
SUMMARY:Sausage Biscuits for Sunday School
DESCRIPTION:  \n \nWe have Sausage Biscuits for Sunday School! Order from Barbara (church office) in advance\, and pay when you pick them up in the fellowship hall. Biscuits are $2 each or 2 for $3!
URL:https://northside-ag.org/event/sausage-biscuits-for-sunday-school-19/
LOCATION:Northside Fellowship Hall
CATEGORIES:Church Service
ORGANIZER;CN="Barbara Ferguson":MAILTO:barbara@northside-ag.org
END:VEVENT
BEGIN:VEVENT
DTSTART;TZID=America/Chicago:20240828T190000
DTEND;TZID=America/Chicago:20240828T200000
DTSTAMP:20260420T162444
CREATED:20240806T185641Z
LAST-MODIFIED:20240806T185641Z
UID:2469-1724871600-1724875200@northside-ag.org
SUMMARY:Wednesday Night - Let's Pray
DESCRIPTION:During the Month of August\, our Church is participating with churches all over America in praying over our nation. \nJoin with us at the church from 7:00pm to 8:00pm for corporate prayer. For More info on Wed Nights\, click here: https://northside-ag.org/wednesday-nights/ \nGrab your “Let’s Pray” prayer points here: https://northside-ag.org/lets-pray/ \n 
URL:https://northside-ag.org/event/wednesday-night-lets-pray-4/
LOCATION:Sanctuary
CATEGORIES:Church Service
END:VEVENT
BEGIN:VEVENT
DTSTART;TZID=America/Chicago:20240821T190000
DTEND;TZID=America/Chicago:20240821T200000
DTSTAMP:20260420T162444
CREATED:20240806T185539Z
LAST-MODIFIED:20240806T185539Z
UID:2467-1724266800-1724270400@northside-ag.org
SUMMARY:Wednesday Night - Let's Pray
DESCRIPTION:During the Month of August\, our Church is participating with churches all over America in praying over our nation. \nJoin with us at the church from 7:00pm to 8:00pm for corporate prayer. For More info on Wed Nights\, click here: https://northside-ag.org/wednesday-nights/ \nGrab your “Let’s Pray” prayer points here: https://northside-ag.org/lets-pray/ \n 
URL:https://northside-ag.org/event/wednesday-night-lets-pray-3/
LOCATION:Sanctuary
CATEGORIES:Church Service
END:VEVENT
BEGIN:VEVENT
DTSTART;TZID=America/Chicago:20240818T090000
DTEND;TZID=America/Chicago:20240818T100000
DTSTAMP:20260420T162444
CREATED:20240806T183004Z
LAST-MODIFIED:20240806T183004Z
UID:2441-1723971600-1723975200@northside-ag.org
SUMMARY:Sausage Biscuits for Sunday School
DESCRIPTION:We have Sausage Biscuits for Sunday School! Order from Barbara (church office) in advance\, and pay when you pick them up in the fellowship hall. Biscuits are $2 each or 2 for $3!
URL:https://northside-ag.org/event/sausage-biscuits-for-sunday-school-18/
LOCATION:Northside Fellowship Hall
CATEGORIES:Church Service
ORGANIZER;CN="Barbara Ferguson":MAILTO:barbara@northside-ag.org
END:VEVENT
BEGIN:VEVENT
DTSTART;TZID=America/Chicago:20240814T190000
DTEND;TZID=America/Chicago:20240814T200000
DTSTAMP:20260420T162444
CREATED:20240806T185440Z
LAST-MODIFIED:20240806T185440Z
UID:2465-1723662000-1723665600@northside-ag.org
SUMMARY:Wednesday Night - Let's Pray
DESCRIPTION:During the Month of August\, our Church is participating with churches all over America in praying over our nation. \nJoin with us at the church from 7:00pm to 8:00pm for corporate prayer. For More info on Wed Nights\, click here: https://northside-ag.org/wednesday-nights/ \nGrab your “Let’s Pray” prayer points here: https://northside-ag.org/lets-pray/ \n 
URL:https://northside-ag.org/event/wednesday-night-lets-pray-2/
LOCATION:Sanctuary
CATEGORIES:Church Service
END:VEVENT
BEGIN:VEVENT
DTSTART;TZID=America/Chicago:20240813T183000
DTEND;TZID=America/Chicago:20240813T193000
DTSTAMP:20260420T162444
CREATED:20240806T184702Z
LAST-MODIFIED:20240806T184702Z
UID:2460-1723573800-1723577400@northside-ag.org
SUMMARY:Men's Hot Topic
DESCRIPTION:Join the MEN and Brother Greg for our hot topic discussion on Tuesday\, August 13th at 6:30PM. Grab something to eat on the way\, and join the conversation!
URL:https://northside-ag.org/event/mens-hot-topic-14/
LOCATION:Northside Fellowship Hall
CATEGORIES:Men's Ministry
END:VEVENT
BEGIN:VEVENT
DTSTART;TZID=America/Chicago:20240807T190000
DTEND;TZID=America/Chicago:20240807T200000
DTSTAMP:20260420T162444
CREATED:20240806T185336Z
LAST-MODIFIED:20240806T185336Z
UID:2463-1723057200-1723060800@northside-ag.org
SUMMARY:Wednesday Night -Let's Pray
DESCRIPTION:During the Month of August\, our Church is participating with churches all over America in praying over our nation. \nJoin with us at the church from 7:00pm to 8:00pm for corporate prayer. For More info on Wed Nights\, click here: https://northside-ag.org/wednesday-nights/ \nGrab your “Let’s Pray” prayer points here: https://northside-ag.org/lets-pray/ \n  \n 
URL:https://northside-ag.org/event/wednesday-night-lets-pray/
LOCATION:Sanctuary
CATEGORIES:Church Service
END:VEVENT
BEGIN:VEVENT
DTSTART;VALUE=DATE:20240804
DTEND;VALUE=DATE:20240811
DTSTAMP:20260420T162444
CREATED:20240504T140121Z
LAST-MODIFIED:20240504T140121Z
UID:2377-1722729600-1723334399@northside-ag.org
SUMMARY:Youth-National Youth Convention and Fine Arts Festival
DESCRIPTION:We are headed to Columbus Ohio for this year’s convention.\nAugust 4-10th\nLeaving Church at 1:00PM\nCost will be approximately $500\, and includes Registration\, transportation\, lodging\, and entry to King’s Island Amusement Park.\nSee Pastor Jose for more info. \nFor more info about the conference and to Register\, click here—> https://youthconference.ag.org/ \n 
URL:https://northside-ag.org/event/youth-national-youth-convention-and-fine-arts-festival/
CATEGORIES:Youth Ministry
END:VEVENT
BEGIN:VEVENT
DTSTART;TZID=America/Chicago:20240803T100000
DTEND;TZID=America/Chicago:20240803T120000
DTSTAMP:20260420T162444
CREATED:20240113T135744Z
LAST-MODIFIED:20240113T135744Z
UID:2301-1722679200-1722686400@northside-ag.org
SUMMARY:Ladies Brunch
DESCRIPTION:Join the Ladies for brunch. Guest Speaker Vivian!
URL:https://northside-ag.org/event/ladies-brunch-2/
LOCATION:Northside Fellowship Hall
CATEGORIES:Women's Ministry
END:VEVENT
BEGIN:VEVENT
DTSTART;TZID=America/Chicago:20240731T183000
DTEND;TZID=America/Chicago:20240731T200000
DTSTAMP:20260420T162444
CREATED:20240504T135452Z
LAST-MODIFIED:20240720T152201Z
UID:2375-1722450600-1722456000@northside-ag.org
SUMMARY:Tyrone Crawford Music Event
DESCRIPTION:We are so excited to have Tyrone Crawford in the HOUSE! \nJuly 31st @ 6:30pm \nThis is family friendly event\, and everyone of all ages will enjoy this special night.\nInvite your friends and family\, and come out for a GREAT time! \nFor more info\, contact the church at 228.392.3263\nCheck out more about Tyrone and listen to his music at www.tyronecrawfordmusic.com
URL:https://northside-ag.org/event/youth-x5-3/
LOCATION:Sanctuary
CATEGORIES:Family Events,Men's Ministry,Outreach Event,Women's Ministry,Youth Ministry
END:VEVENT
BEGIN:VEVENT
DTSTART;TZID=America/Chicago:20240721T113000
DTEND;TZID=America/Chicago:20240721T123000
DTSTAMP:20260420T162444
CREATED:20240113T135548Z
LAST-MODIFIED:20240611T234708Z
UID:2299-1721561400-1721565000@northside-ag.org
SUMMARY:Spaghetti Fundraiser
DESCRIPTION:Join us after church for Spaghetti. Donate toward missions!
URL:https://northside-ag.org/event/spaghetti-fundraiser/
LOCATION:Northside Fellowship Hall
CATEGORIES:Family Events
ORGANIZER;CN="Barbara Ferguson":MAILTO:barbara@northside-ag.org
END:VEVENT
BEGIN:VEVENT
DTSTART;TZID=America/Chicago:20240721T090000
DTEND;TZID=America/Chicago:20240721T100000
DTSTAMP:20260420T162444
CREATED:20240612T000647Z
LAST-MODIFIED:20240612T000647Z
UID:2387-1721552400-1721556000@northside-ag.org
SUMMARY:Sausage Biscuits for Sunday School
DESCRIPTION:We have Sausage Biscuits for Sunday School! Order from Barbara (church office) in advance\, and pay when you pick them up in the fellowship hall. Biscuits are $2 each or 2 for $3!
URL:https://northside-ag.org/event/sausage-biscuits-for-sunday-school-17/
LOCATION:Northside Fellowship Hall
ORGANIZER;CN="Barbara Ferguson":MAILTO:barbara@northside-ag.org
END:VEVENT
BEGIN:VEVENT
DTSTART;VALUE=DATE:20240710
DTEND;VALUE=DATE:20240714
DTSTAMP:20260420T162444
CREATED:20240428T194815Z
LAST-MODIFIED:20240428T194815Z
UID:2360-1720569600-1720915199@northside-ag.org
SUMMARY:Youth Camp
DESCRIPTION:Youth Camp is July 10-13th! We will leave the church at 8AM \nCost is $185\, but you must register before May 29th! After May 29th\, Price increases to $200. \nExtra Money will be needed for meals while traveling\, concessions at camp\, etc. \nRegister here: https://www.msnextgen.com/event/teen-camp-2-2024/ \n 
URL:https://northside-ag.org/event/youth-camp/
CATEGORIES:Youth Ministry
END:VEVENT
BEGIN:VEVENT
DTSTART;TZID=America/Chicago:20240709T183000
DTEND;TZID=America/Chicago:20240709T200000
DTSTAMP:20260420T162444
CREATED:20240612T001044Z
LAST-MODIFIED:20240612T001159Z
UID:2389-1720549800-1720555200@northside-ag.org
SUMMARY:Men's Hot Topic
DESCRIPTION:Men! Join us for fellowship and great time of discussion! Grab some dinner on the way\, and we’ll see you at 6:30pm!
URL:https://northside-ag.org/event/mens-hot-topic-13/
LOCATION:Northside Fellowship Hall
CATEGORIES:Men's Ministry
END:VEVENT
BEGIN:VEVENT
DTSTART;TZID=America/Chicago:20240707T090000
DTEND;TZID=America/Chicago:20240707T100000
DTSTAMP:20260420T162444
CREATED:20240612T000512Z
LAST-MODIFIED:20240612T000512Z
UID:2385-1720342800-1720346400@northside-ag.org
SUMMARY:Sausage Biscuits for Sunday School
DESCRIPTION:We have Sausage Biscuits for Sunday School! Order from Barbara (church office) in advance\, and pay when you pick them up in the fellowship hall. Biscuits are $2 each or 2 for $3!
URL:https://northside-ag.org/event/sausage-biscuits-for-sunday-school-16/
LOCATION:Northside Fellowship Hall
ORGANIZER;CN="Barbara Ferguson":MAILTO:barbara@northside-ag.org
END:VEVENT
BEGIN:VEVENT
DTSTART;TZID=America/Chicago:20240704T100000
DTEND;TZID=America/Chicago:20240704T133000
DTSTAMP:20260420T162444
CREATED:20240113T134757Z
LAST-MODIFIED:20240113T134757Z
UID:2291-1720087200-1720099800@northside-ag.org
SUMMARY:4th of July Extravaganza
DESCRIPTION:NorthSide will be hosting a HUGE event. We need your help! See Jose and Lisa to volunteer or to donate toward Auction!\nInvite your family and Friends!\nWe will have lots of food and fun for all!
URL:https://northside-ag.org/event/4th-of-july-extravaganza/
CATEGORIES:Outreach Event
END:VEVENT
BEGIN:VEVENT
DTSTART;TZID=America/Chicago:20240630T090000
DTEND;TZID=America/Chicago:20240630T100000
DTSTAMP:20260420T162444
CREATED:20240428T182328Z
LAST-MODIFIED:20240428T182328Z
UID:2336-1719738000-1719741600@northside-ag.org
SUMMARY:Sausage Biscuits for Sunday School
DESCRIPTION:We have Sausage Biscuits for Sunday School! Order from Barbara (church office) in advance\, and pay when you pick them up in the fellowship hall. Biscuits are $2 each or 2 for $3!
URL:https://northside-ag.org/event/sausage-biscuits-for-sunday-school-15/
LOCATION:Northside Fellowship Hall
ORGANIZER;CN="Barbara Ferguson":MAILTO:barbara@northside-ag.org
END:VEVENT
BEGIN:VEVENT
DTSTART;VALUE=DATE:20240621
DTEND;VALUE=DATE:20240622
DTSTAMP:20260420T162444
CREATED:20240504T135248Z
LAST-MODIFIED:20240504T135302Z
UID:2372-1718928000-1719014399@northside-ag.org
SUMMARY:Youth Hangout at Big Play
DESCRIPTION:Hey Youth! Join us for a fun hangout day! See Pastor Jose for times and details!
URL:https://northside-ag.org/event/youth-hangout-at-big-play/
CATEGORIES:Youth Ministry
END:VEVENT
BEGIN:VEVENT
DTSTART;TZID=America/Chicago:20240616T090000
DTEND;TZID=America/Chicago:20240616T100000
DTSTAMP:20260420T162444
CREATED:20240428T182201Z
LAST-MODIFIED:20240428T182201Z
UID:2334-1718528400-1718532000@northside-ag.org
SUMMARY:Sausage Biscuits for Sunday School
DESCRIPTION:We have Sausage Biscuits for Sunday School! Order from Barbara (church office) in advance\, and pay when you pick them up in the fellowship hall. Biscuits are $2 each or 2 for $3!
URL:https://northside-ag.org/event/sausage-biscuits-for-sunday-school-14/
LOCATION:Northside Fellowship Hall
ORGANIZER;CN="Barbara Ferguson":MAILTO:barbara@northside-ag.org
END:VEVENT
BEGIN:VEVENT
DTSTART;TZID=America/Chicago:20240613T183000
DTEND;TZID=America/Chicago:20240613T203000
DTSTAMP:20260420T162444
CREATED:20240611T234543Z
LAST-MODIFIED:20240611T234606Z
UID:2381-1718303400-1718310600@northside-ag.org
SUMMARY:Ol' Codgers Night Out
DESCRIPTION:You know who you are! \nWe will meet at 6:30pm at Crazy Sisters Catfish Cabin in Vancleave!
URL:https://northside-ag.org/event/ol-codgers-night-out/
LOCATION:Crazy Sisters Catfish Cabin\, 11996 Highway 57\, vancleave\, MS\, 39565\, United States
CATEGORIES:Men's Ministry
END:VEVENT
BEGIN:VEVENT
DTSTART;TZID=America/Chicago:20240611T183000
DTEND;TZID=America/Chicago:20240611T200000
DTSTAMP:20260420T162444
CREATED:20240428T183006Z
LAST-MODIFIED:20240428T183006Z
UID:2341-1718130600-1718136000@northside-ag.org
SUMMARY:Men's Hot Topic
DESCRIPTION:Join the men for fellowship and always interesting discussion! Grab some food on they way\, and meet in the fellowship hall at 6:30pm!
URL:https://northside-ag.org/event/mens-hot-topic-12/
LOCATION:Northside Fellowship Hall
CATEGORIES:Men's Ministry
END:VEVENT
BEGIN:VEVENT
DTSTART;TZID=America/Chicago:20240607T183000
DTEND;TZID=America/Chicago:20240607T203000
DTSTAMP:20260420T162444
CREATED:20240113T134958Z
LAST-MODIFIED:20240113T134958Z
UID:2293-1717785000-1717792200@northside-ag.org
SUMMARY:Ladies Banquet
DESCRIPTION:Western Round Up\n$15 per ticket
URL:https://northside-ag.org/event/ladies-banquet/
LOCATION:Northside Fellowship Hall
CATEGORIES:Women's Ministry
ORGANIZER;CN="Barbara Ferguson":MAILTO:barbara@northside-ag.org
END:VEVENT
BEGIN:VEVENT
DTSTART;VALUE=DATE:20240604
DTEND;VALUE=DATE:20240605
DTSTAMP:20260420T162444
CREATED:20240504T134950Z
LAST-MODIFIED:20240504T134950Z
UID:2369-1717459200-1717545599@northside-ag.org
SUMMARY:Youth-Trip to water park
DESCRIPTION:Youth is heading to Gulf Islands Water Park! \nCost is $35 if purchased by May 15th. See Pastor Jose for ticket info. \nWe will leave the church at 9AM. Bring extra money for food/concessions.
URL:https://northside-ag.org/event/youth-trip-to-water-park/
CATEGORIES:Youth Ministry
END:VEVENT
BEGIN:VEVENT
DTSTART;TZID=America/Chicago:20240602T090000
DTEND;TZID=America/Chicago:20240602T100000
DTSTAMP:20260420T162444
CREATED:20240428T181956Z
LAST-MODIFIED:20240428T181956Z
UID:2332-1717318800-1717322400@northside-ag.org
SUMMARY:Sausage Biscuits for Sunday School
DESCRIPTION:We have Sausage Biscuits for Sunday School! Order from Barbara (church office) in advance\, and pay when you pick them up in the fellowship hall. Biscuits are $2 each or 2 for $3!
URL:https://northside-ag.org/event/sausage-biscuits-for-sunday-school-13/
LOCATION:Northside Fellowship Hall
ORGANIZER;CN="Barbara Ferguson":MAILTO:barbara@northside-ag.org
END:VEVENT
END:VCALENDAR