BEGIN:VCALENDAR
VERSION:2.0
PRODID:-//NorthSide Assembly of God - ECPv6.2.9//NONSGML v1.0//EN
CALSCALE:GREGORIAN
METHOD:PUBLISH
X-WR-CALNAME:NorthSide Assembly of God
X-ORIGINAL-URL:https://northside-ag.org
X-WR-CALDESC:Events for NorthSide Assembly of God
REFRESH-INTERVAL;VALUE=DURATION:PT1H
X-Robots-Tag:noindex
X-PUBLISHED-TTL:PT1H
BEGIN:VTIMEZONE
TZID:America/Chicago
BEGIN:DAYLIGHT
TZOFFSETFROM:-0600
TZOFFSETTO:-0500
TZNAME:CDT
DTSTART:20250309T080000
END:DAYLIGHT
BEGIN:STANDARD
TZOFFSETFROM:-0500
TZOFFSETTO:-0600
TZNAME:CST
DTSTART:20251102T070000
END:STANDARD
END:VTIMEZONE
BEGIN:VEVENT
DTSTART;TZID=America/Chicago:20250511T100000
DTEND;TZID=America/Chicago:20250511T130000
DTSTAMP:20260422T233242
CREATED:20250212T194135Z
LAST-MODIFIED:20250212T194135Z
UID:2652-1746957600-1746968400@northside-ag.org
SUMMARY:Mother's Day
DESCRIPTION:Happy Mother’s Day to all the moms\, moms to be\, fur-moms\, and spiritual moms out there! We celebrate YOU!
URL:https://northside-ag.org/event/mothers-day/
END:VEVENT
BEGIN:VEVENT
DTSTART;TZID=America/Chicago:20250513T183000
DTEND;TZID=America/Chicago:20250513T193000
DTSTAMP:20260422T233242
CREATED:20250420T010705Z
LAST-MODIFIED:20250420T010705Z
UID:2690-1747161000-1747164600@northside-ag.org
SUMMARY:Men's Hot Topic
DESCRIPTION:Join the MEN for great discussion. Grab dinner on the way and meet in the fellowship hall
URL:https://northside-ag.org/event/mens-hot-topic-21/
LOCATION:Northside Fellowship Hall
CATEGORIES:Men's Ministry
END:VEVENT
BEGIN:VEVENT
DTSTART;TZID=America/Chicago:20250517T130000
DTEND;TZID=America/Chicago:20250517T153000
DTSTAMP:20260422T233242
CREATED:20250212T194257Z
LAST-MODIFIED:20250419T005804Z
UID:2654-1747486800-1747495800@northside-ag.org
SUMMARY:Ladies Tea with Latimer Church Ladies
DESCRIPTION:Join the ladies in Latimer for tea time at 1pm. \nAttire is Sunday Attire or English/Victorian Tea attire. \nMore details to follow. m
URL:https://northside-ag.org/event/dolphin-cruise/
ORGANIZER;CN="Barbara Ferguson":MAILTO:barbara@northside-ag.org
END:VEVENT
END:VCALENDAR