BEGIN:VCALENDAR
VERSION:2.0
PRODID:-//NorthSide Assembly of God - ECPv6.2.9//NONSGML v1.0//EN
CALSCALE:GREGORIAN
METHOD:PUBLISH
X-WR-CALNAME:NorthSide Assembly of God
X-ORIGINAL-URL:https://northside-ag.org
X-WR-CALDESC:Events for NorthSide Assembly of God
REFRESH-INTERVAL;VALUE=DURATION:PT1H
X-Robots-Tag:noindex
X-PUBLISHED-TTL:PT1H
BEGIN:VTIMEZONE
TZID:America/Chicago
BEGIN:DAYLIGHT
TZOFFSETFROM:-0600
TZOFFSETTO:-0500
TZNAME:CDT
DTSTART:20250309T080000
END:DAYLIGHT
BEGIN:STANDARD
TZOFFSETFROM:-0500
TZOFFSETTO:-0600
TZNAME:CST
DTSTART:20251102T070000
END:STANDARD
END:VTIMEZONE
BEGIN:VEVENT
DTSTART;TZID=America/Chicago:20250802T080000
DTEND;TZID=America/Chicago:20250802T103000
DTSTAMP:20260422T184847
CREATED:20250713T203824Z
LAST-MODIFIED:20250713T203824Z
UID:2756-1754121600-1754130600@northside-ag.org
SUMMARY:Reflecting Christ Ministry
DESCRIPTION:Join the team from NorthSide that helps our “Street Friends” every first Saturday of each month. We usually meet in the Fellowship Hall to pack bags before heading out to Biloxi for the outreach. \nContact Gina for more information\, or call our church office.
URL:https://northside-ag.org/event/reflecting-christ-ministry-4/
LOCATION:Northside Fellowship Hall
CATEGORIES:Outreach Event
END:VEVENT
BEGIN:VEVENT
DTSTART;TZID=America/Chicago:20250809T110000
DTEND;TZID=America/Chicago:20250809T123000
DTSTAMP:20260422T184847
CREATED:20250212T194923Z
LAST-MODIFIED:20250212T194923Z
UID:2662-1754737200-1754742600@northside-ag.org
SUMMARY:Ladies Lunch at Olive Garden
DESCRIPTION:Ladies! Join us for lunch at our favorite place-Olive Garden!
URL:https://northside-ag.org/event/ladies-lunch-at-olive-garden/
LOCATION:Olive Garden\, 3882 Promenade Pkwy\, D'Iberville\, MS\, 39540\, United States
CATEGORIES:Women's Ministry
ORGANIZER;CN="Barbara Ferguson":MAILTO:barbara@northside-ag.org
END:VEVENT
BEGIN:VEVENT
DTSTART;TZID=America/Chicago:20250812T183000
DTEND;TZID=America/Chicago:20250812T193000
DTSTAMP:20260422T184847
CREATED:20250713T184449Z
LAST-MODIFIED:20250713T184449Z
UID:2734-1755023400-1755027000@northside-ag.org
SUMMARY:Men's Hot Topic
DESCRIPTION:Join the MEN in the Fellowship Hall for an in depth discussion on this month’s topic! Grab dinner on the way and join in! \n 
URL:https://northside-ag.org/event/mens-hot-topic-23/
LOCATION:Northside Fellowship Hall
CATEGORIES:Men's Ministry
END:VEVENT
BEGIN:VEVENT
DTSTART;TZID=America/Chicago:20250824T113000
DTEND;TZID=America/Chicago:20250824T120000
DTSTAMP:20260422T184847
CREATED:20250212T195048Z
LAST-MODIFIED:20250212T195048Z
UID:2664-1756035000-1756036800@northside-ag.org
SUMMARY:Ladies Bake Sale
DESCRIPTION:After church\, we’ll be selling tasty treats for missions donations! Stop by
URL:https://northside-ag.org/event/ladies-bake-sale/
ORGANIZER;CN="Barbara Ferguson":MAILTO:barbara@northside-ag.org
END:VEVENT
END:VCALENDAR