BEGIN:VCALENDAR
VERSION:2.0
PRODID:-//NorthSide Assembly of God - ECPv6.2.9//NONSGML v1.0//EN
CALSCALE:GREGORIAN
METHOD:PUBLISH
X-WR-CALNAME:NorthSide Assembly of God
X-ORIGINAL-URL:https://northside-ag.org
X-WR-CALDESC:Events for NorthSide Assembly of God
REFRESH-INTERVAL;VALUE=DURATION:PT1H
X-Robots-Tag:noindex
X-PUBLISHED-TTL:PT1H
BEGIN:VTIMEZONE
TZID:America/Chicago
BEGIN:DAYLIGHT
TZOFFSETFROM:-0600
TZOFFSETTO:-0500
TZNAME:CDT
DTSTART:20250309T080000
END:DAYLIGHT
BEGIN:STANDARD
TZOFFSETFROM:-0500
TZOFFSETTO:-0600
TZNAME:CST
DTSTART:20251102T070000
END:STANDARD
END:VTIMEZONE
BEGIN:VEVENT
DTSTART;TZID=America/Chicago:20250906T080000
DTEND;TZID=America/Chicago:20250906T103000
DTSTAMP:20260422T171818
CREATED:20250713T204134Z
LAST-MODIFIED:20250713T204134Z
UID:2760-1757145600-1757154600@northside-ag.org
SUMMARY:Reflecting Christ Ministry
DESCRIPTION:Join the team from NorthSide that helps our “Street Friends” every first Saturday of each month. We usually meet in the Fellowship Hall to pack bags before heading out to Biloxi for the outreach. \nContact Gina for more information\, or call our church office.
URL:https://northside-ag.org/event/reflecting-christ-ministry-5/
LOCATION:Northside Fellowship Hall
CATEGORIES:Outreach Event
END:VEVENT
BEGIN:VEVENT
DTSTART;TZID=America/Chicago:20250909T183000
DTEND;TZID=America/Chicago:20250909T193000
DTSTAMP:20260422T171818
CREATED:20250713T192701Z
LAST-MODIFIED:20250713T192701Z
UID:2740-1757442600-1757446200@northside-ag.org
SUMMARY:Men's Hot Topic
DESCRIPTION:Join the MEN in the Fellowship Hall for an in depth discussion on this month’s topic! Grab dinner on the way and join in! \nWe meet every second Tuesday of the month at 6:30pm.
URL:https://northside-ag.org/event/mens-hot-topic-24/
LOCATION:Northside Fellowship Hall
CATEGORIES:Men's Ministry
END:VEVENT
BEGIN:VEVENT
DTSTART;TZID=America/Chicago:20250913T100000
DTEND;TZID=America/Chicago:20250913T120000
DTSTAMP:20260422T171818
CREATED:20250212T195251Z
LAST-MODIFIED:20250212T195251Z
UID:2666-1757757600-1757764800@northside-ag.org
SUMMARY:Ladies Scavenger Hunt and Lunch
DESCRIPTION:Join us for fun\, friends\, and food!
URL:https://northside-ag.org/event/ladies-scavenger-hunt-and-lunch/
LOCATION:NorthSide Lawn
CATEGORIES:Women's Ministry
ORGANIZER;CN="Barbara Ferguson":MAILTO:barbara@northside-ag.org
END:VEVENT
END:VCALENDAR