BEGIN:VCALENDAR
VERSION:2.0
PRODID:-//NorthSide Assembly of God - ECPv6.2.9//NONSGML v1.0//EN
CALSCALE:GREGORIAN
METHOD:PUBLISH
X-WR-CALNAME:NorthSide Assembly of God
X-ORIGINAL-URL:https://northside-ag.org
X-WR-CALDESC:Events for NorthSide Assembly of God
REFRESH-INTERVAL;VALUE=DURATION:PT1H
X-Robots-Tag:noindex
X-PUBLISHED-TTL:PT1H
BEGIN:VTIMEZONE
TZID:America/Chicago
BEGIN:DAYLIGHT
TZOFFSETFROM:-0600
TZOFFSETTO:-0500
TZNAME:CDT
DTSTART:20250309T080000
END:DAYLIGHT
BEGIN:STANDARD
TZOFFSETFROM:-0500
TZOFFSETTO:-0600
TZNAME:CST
DTSTART:20251102T070000
END:STANDARD
END:VTIMEZONE
BEGIN:VEVENT
DTSTART;TZID=America/Chicago:20251004T080000
DTEND;TZID=America/Chicago:20251004T103000
DTSTAMP:20260422T154828
CREATED:20250713T204309Z
LAST-MODIFIED:20250713T204309Z
UID:2762-1759564800-1759573800@northside-ag.org
SUMMARY:Reflecting Christ Ministry
DESCRIPTION:Join the team from NorthSide that helps our “Street Friends” every first Saturday of each month. We usually meet in the Fellowship Hall to pack bags before heading out to Biloxi for the outreach. \nContact Gina for more information\, or call our church office.
URL:https://northside-ag.org/event/reflecting-christ-ministry-6/
LOCATION:Northside Fellowship Hall
CATEGORIES:Outreach Event
END:VEVENT
BEGIN:VEVENT
DTSTART;TZID=America/Chicago:20251011T100000
DTEND;TZID=America/Chicago:20251011T113000
DTSTAMP:20260422T154828
CREATED:20250212T200115Z
LAST-MODIFIED:20250212T200115Z
UID:2668-1760176800-1760182200@northside-ag.org
SUMMARY:Ladies Brunch
DESCRIPTION:Ladies! Join us for brunch in the fellowship hall.
URL:https://northside-ag.org/event/ladies-brunch-5/
LOCATION:Northside Fellowship Hall
CATEGORIES:Women's Ministry
ORGANIZER;CN="Barbara Ferguson":MAILTO:barbara@northside-ag.org
END:VEVENT
BEGIN:VEVENT
DTSTART;TZID=America/Chicago:20251014T183000
DTEND;TZID=America/Chicago:20251014T193000
DTSTAMP:20260422T154828
CREATED:20250713T192823Z
LAST-MODIFIED:20250713T192823Z
UID:2742-1760466600-1760470200@northside-ag.org
SUMMARY:Men's Hot Topic
DESCRIPTION:Join the MEN in the Fellowship Hall for an in depth discussion on this month’s topic! Grab dinner on the way and join in! \nWe meet every second Tuesday of the month at 6:30pm.
URL:https://northside-ag.org/event/mens-hot-topic-25/
LOCATION:Northside Fellowship Hall
CATEGORIES:Men's Ministry
END:VEVENT
BEGIN:VEVENT
DTSTART;TZID=America/Chicago:20251019T113000
DTEND;TZID=America/Chicago:20251019T123000
DTSTAMP:20260422T154828
CREATED:20250212T193949Z
LAST-MODIFIED:20250419T005551Z
UID:2650-1760873400-1760877000@northside-ag.org
SUMMARY:Ladies Chili Lunch Fundraiser
DESCRIPTION:Stay after church for Chili and Fellowship. All proceeds go to missions!
URL:https://northside-ag.org/event/ladies-chili-lunch-fundraiser/
LOCATION:Northside Fellowship Hall
ORGANIZER;CN="Barbara Ferguson":MAILTO:barbara@northside-ag.org
END:VEVENT
BEGIN:VEVENT
DTSTART;TZID=America/Chicago:20251026T100000
DTEND;TZID=America/Chicago:20251026T113000
DTSTAMP:20260422T154828
CREATED:20250212T200457Z
LAST-MODIFIED:20250212T200457Z
UID:2672-1761472800-1761478200@northside-ag.org
SUMMARY:Pastor Appreciation Day
DESCRIPTION:Let’s honor Pastor Jeff and Sister Donna. Be sure to grab some cards from the front foyer!
URL:https://northside-ag.org/event/pastor-appreciation-day-2/
END:VEVENT
END:VCALENDAR